BEGIN:VCALENDAR
VERSION:2.0
PRODID:-//Stonewall Columbus - ECPv6.15.20//NONSGML v1.0//EN
CALSCALE:GREGORIAN
METHOD:PUBLISH
X-WR-CALNAME:Stonewall Columbus
X-ORIGINAL-URL:https://stonewallcolumbus.org
X-WR-CALDESC:Events for Stonewall Columbus
REFRESH-INTERVAL;VALUE=DURATION:PT1H
X-Robots-Tag:noindex
X-PUBLISHED-TTL:PT1H
BEGIN:VTIMEZONE
TZID:America/New_York
BEGIN:DAYLIGHT
TZOFFSETFROM:-0500
TZOFFSETTO:-0400
TZNAME:EDT
DTSTART:20250309T070000
END:DAYLIGHT
BEGIN:STANDARD
TZOFFSETFROM:-0400
TZOFFSETTO:-0500
TZNAME:EST
DTSTART:20251102T060000
END:STANDARD
BEGIN:DAYLIGHT
TZOFFSETFROM:-0500
TZOFFSETTO:-0400
TZNAME:EDT
DTSTART:20260308T070000
END:DAYLIGHT
BEGIN:STANDARD
TZOFFSETFROM:-0400
TZOFFSETTO:-0500
TZNAME:EST
DTSTART:20261101T060000
END:STANDARD
BEGIN:DAYLIGHT
TZOFFSETFROM:-0500
TZOFFSETTO:-0400
TZNAME:EDT
DTSTART:20270314T070000
END:DAYLIGHT
BEGIN:STANDARD
TZOFFSETFROM:-0400
TZOFFSETTO:-0500
TZNAME:EST
DTSTART:20271107T060000
END:STANDARD
END:VTIMEZONE
BEGIN:VEVENT
DTSTART;TZID=America/New_York:20260915T170000
DTEND;TZID=America/New_York:20260915T193000
DTSTAMP:20260422T172720
CREATED:20260422T183807Z
LAST-MODIFIED:20260422T183917Z
UID:10005271-1789491600-1789500600@stonewallcolumbus.org
SUMMARY:Trans Talk Tuesday
DESCRIPTION:Trans Talk Tuesday has a home at Stonewall Columbus! \nIn partnership with Central Outreach Wellness Center Trans Talk Tuesday aims to create a space that encourages open dialogue\, connections\, and a sense of belonging.  \nJoin us! Every 1st and 3rd Tuesday of the month here at The Center from 5-7:30pm.
URL:https://stonewallcolumbus.org/event/trans-talk-tuesday-2/2026-09-15/
LOCATION:Stonewall Columbus\, 1160 North High Street\, Columbus\, OH\, 43201\, United States
CATEGORIES:Community Calendar,Featured,Trans Social Group
ATTACH;FMTTYPE=image/png:https://stonewallcolumbus.org/wp-content/uploads/2025/03/TTT-2025-logo.png
ORGANIZER;CN="Stonewall Columbus":MAILTO:info@stonewallcolumbus.org
GEO:39.986041;-83.005015
X-APPLE-STRUCTURED-LOCATION;VALUE=URI;X-ADDRESS=Stonewall Columbus 1160 North High Street Columbus OH 43201 United States;X-APPLE-RADIUS=500;X-TITLE=1160 North High Street:geo:-83.005015,39.986041
END:VEVENT
BEGIN:VEVENT
DTSTART;TZID=America/New_York:20261006T170000
DTEND;TZID=America/New_York:20261006T193000
DTSTAMP:20260422T172720
CREATED:20250313T155351Z
LAST-MODIFIED:20260422T184451Z
UID:10005289-1791306000-1791315000@stonewallcolumbus.org
SUMMARY:Trans Talk Tuesday
DESCRIPTION:Trans Talk Tuesday has a home at Stonewall Columbus! \nIn partnership with Central Outreach Wellness Center Trans Talk Tuesday aims to create a space that encourages open dialogue\, connections\, and a sense of belonging.  \nJoin us! Every 1st and 3rd Tuesday of the month here at The Center from 7- 9pm.
URL:https://stonewallcolumbus.org/event/trans-taco-tuesday-4-2/2026-10-06/
LOCATION:Stonewall Columbus\, 1160 North High Street\, Columbus\, OH\, 43201\, United States
CATEGORIES:Community Calendar,Featured,Trans Social Group
ATTACH;FMTTYPE=image/png:https://stonewallcolumbus.org/wp-content/uploads/2025/03/TTT-2025-logo.png
ORGANIZER;CN="Stonewall Columbus":MAILTO:info@stonewallcolumbus.org
GEO:39.986041;-83.005015
X-APPLE-STRUCTURED-LOCATION;VALUE=URI;X-ADDRESS=Stonewall Columbus 1160 North High Street Columbus OH 43201 United States;X-APPLE-RADIUS=500;X-TITLE=1160 North High Street:geo:-83.005015,39.986041
END:VEVENT
BEGIN:VEVENT
DTSTART;TZID=America/New_York:20261020T170000
DTEND;TZID=America/New_York:20261020T193000
DTSTAMP:20260422T172720
CREATED:20260422T183807Z
LAST-MODIFIED:20260422T183917Z
UID:10005272-1792515600-1792524600@stonewallcolumbus.org
SUMMARY:Trans Talk Tuesday
DESCRIPTION:Trans Talk Tuesday has a home at Stonewall Columbus! \nIn partnership with Central Outreach Wellness Center Trans Talk Tuesday aims to create a space that encourages open dialogue\, connections\, and a sense of belonging.  \nJoin us! Every 1st and 3rd Tuesday of the month here at The Center from 5-7:30pm.
URL:https://stonewallcolumbus.org/event/trans-talk-tuesday-2/2026-10-20/
LOCATION:Stonewall Columbus\, 1160 North High Street\, Columbus\, OH\, 43201\, United States
CATEGORIES:Community Calendar,Featured,Trans Social Group
ATTACH;FMTTYPE=image/png:https://stonewallcolumbus.org/wp-content/uploads/2025/03/TTT-2025-logo.png
ORGANIZER;CN="Stonewall Columbus":MAILTO:info@stonewallcolumbus.org
GEO:39.986041;-83.005015
X-APPLE-STRUCTURED-LOCATION;VALUE=URI;X-ADDRESS=Stonewall Columbus 1160 North High Street Columbus OH 43201 United States;X-APPLE-RADIUS=500;X-TITLE=1160 North High Street:geo:-83.005015,39.986041
END:VEVENT
BEGIN:VEVENT
DTSTART;TZID=America/New_York:20261103T170000
DTEND;TZID=America/New_York:20261103T193000
DTSTAMP:20260422T172720
CREATED:20250313T155351Z
LAST-MODIFIED:20260422T184451Z
UID:10005290-1793725200-1793734200@stonewallcolumbus.org
SUMMARY:Trans Talk Tuesday
DESCRIPTION:Trans Talk Tuesday has a home at Stonewall Columbus! \nIn partnership with Central Outreach Wellness Center Trans Talk Tuesday aims to create a space that encourages open dialogue\, connections\, and a sense of belonging.  \nJoin us! Every 1st and 3rd Tuesday of the month here at The Center from 7- 9pm.
URL:https://stonewallcolumbus.org/event/trans-taco-tuesday-4-2/2026-11-03/
LOCATION:Stonewall Columbus\, 1160 North High Street\, Columbus\, OH\, 43201\, United States
CATEGORIES:Community Calendar,Featured,Trans Social Group
ATTACH;FMTTYPE=image/png:https://stonewallcolumbus.org/wp-content/uploads/2025/03/TTT-2025-logo.png
ORGANIZER;CN="Stonewall Columbus":MAILTO:info@stonewallcolumbus.org
GEO:39.986041;-83.005015
X-APPLE-STRUCTURED-LOCATION;VALUE=URI;X-ADDRESS=Stonewall Columbus 1160 North High Street Columbus OH 43201 United States;X-APPLE-RADIUS=500;X-TITLE=1160 North High Street:geo:-83.005015,39.986041
END:VEVENT
BEGIN:VEVENT
DTSTART;TZID=America/New_York:20261117T170000
DTEND;TZID=America/New_York:20261117T193000
DTSTAMP:20260422T172720
CREATED:20260422T183807Z
LAST-MODIFIED:20260422T183917Z
UID:10005273-1794934800-1794943800@stonewallcolumbus.org
SUMMARY:Trans Talk Tuesday
DESCRIPTION:Trans Talk Tuesday has a home at Stonewall Columbus! \nIn partnership with Central Outreach Wellness Center Trans Talk Tuesday aims to create a space that encourages open dialogue\, connections\, and a sense of belonging.  \nJoin us! Every 1st and 3rd Tuesday of the month here at The Center from 5-7:30pm.
URL:https://stonewallcolumbus.org/event/trans-talk-tuesday-2/2026-11-17/
LOCATION:Stonewall Columbus\, 1160 North High Street\, Columbus\, OH\, 43201\, United States
CATEGORIES:Community Calendar,Featured,Trans Social Group
ATTACH;FMTTYPE=image/png:https://stonewallcolumbus.org/wp-content/uploads/2025/03/TTT-2025-logo.png
ORGANIZER;CN="Stonewall Columbus":MAILTO:info@stonewallcolumbus.org
GEO:39.986041;-83.005015
X-APPLE-STRUCTURED-LOCATION;VALUE=URI;X-ADDRESS=Stonewall Columbus 1160 North High Street Columbus OH 43201 United States;X-APPLE-RADIUS=500;X-TITLE=1160 North High Street:geo:-83.005015,39.986041
END:VEVENT
BEGIN:VEVENT
DTSTART;TZID=America/New_York:20261201T170000
DTEND;TZID=America/New_York:20261201T193000
DTSTAMP:20260422T172720
CREATED:20250313T155351Z
LAST-MODIFIED:20260422T184451Z
UID:10005291-1796144400-1796153400@stonewallcolumbus.org
SUMMARY:Trans Talk Tuesday
DESCRIPTION:Trans Talk Tuesday has a home at Stonewall Columbus! \nIn partnership with Central Outreach Wellness Center Trans Talk Tuesday aims to create a space that encourages open dialogue\, connections\, and a sense of belonging.  \nJoin us! Every 1st and 3rd Tuesday of the month here at The Center from 7- 9pm.
URL:https://stonewallcolumbus.org/event/trans-taco-tuesday-4-2/2026-12-01/
LOCATION:Stonewall Columbus\, 1160 North High Street\, Columbus\, OH\, 43201\, United States
CATEGORIES:Community Calendar,Featured,Trans Social Group
ATTACH;FMTTYPE=image/png:https://stonewallcolumbus.org/wp-content/uploads/2025/03/TTT-2025-logo.png
ORGANIZER;CN="Stonewall Columbus":MAILTO:info@stonewallcolumbus.org
GEO:39.986041;-83.005015
X-APPLE-STRUCTURED-LOCATION;VALUE=URI;X-ADDRESS=Stonewall Columbus 1160 North High Street Columbus OH 43201 United States;X-APPLE-RADIUS=500;X-TITLE=1160 North High Street:geo:-83.005015,39.986041
END:VEVENT
BEGIN:VEVENT
DTSTART;TZID=America/New_York:20261215T170000
DTEND;TZID=America/New_York:20261215T193000
DTSTAMP:20260422T172720
CREATED:20260422T183807Z
LAST-MODIFIED:20260422T183917Z
UID:10005274-1797354000-1797363000@stonewallcolumbus.org
SUMMARY:Trans Talk Tuesday
DESCRIPTION:Trans Talk Tuesday has a home at Stonewall Columbus! \nIn partnership with Central Outreach Wellness Center Trans Talk Tuesday aims to create a space that encourages open dialogue\, connections\, and a sense of belonging.  \nJoin us! Every 1st and 3rd Tuesday of the month here at The Center from 5-7:30pm.
URL:https://stonewallcolumbus.org/event/trans-talk-tuesday-2/2026-12-15/
LOCATION:Stonewall Columbus\, 1160 North High Street\, Columbus\, OH\, 43201\, United States
CATEGORIES:Community Calendar,Featured,Trans Social Group
ATTACH;FMTTYPE=image/png:https://stonewallcolumbus.org/wp-content/uploads/2025/03/TTT-2025-logo.png
ORGANIZER;CN="Stonewall Columbus":MAILTO:info@stonewallcolumbus.org
GEO:39.986041;-83.005015
X-APPLE-STRUCTURED-LOCATION;VALUE=URI;X-ADDRESS=Stonewall Columbus 1160 North High Street Columbus OH 43201 United States;X-APPLE-RADIUS=500;X-TITLE=1160 North High Street:geo:-83.005015,39.986041
END:VEVENT
END:VCALENDAR