BEGIN:VCALENDAR
VERSION:2.0
PRODID:-//Stonewall Columbus - ECPv6.15.20//NONSGML v1.0//EN
CALSCALE:GREGORIAN
METHOD:PUBLISH
X-ORIGINAL-URL:https://stonewallcolumbus.org
X-WR-CALDESC:Events for Stonewall Columbus
REFRESH-INTERVAL;VALUE=DURATION:PT1H
X-Robots-Tag:noindex
X-PUBLISHED-TTL:PT1H
BEGIN:VTIMEZONE
TZID:America/New_York
BEGIN:DAYLIGHT
TZOFFSETFROM:-0500
TZOFFSETTO:-0400
TZNAME:EDT
DTSTART:20250309T070000
END:DAYLIGHT
BEGIN:STANDARD
TZOFFSETFROM:-0400
TZOFFSETTO:-0500
TZNAME:EST
DTSTART:20251102T060000
END:STANDARD
BEGIN:DAYLIGHT
TZOFFSETFROM:-0500
TZOFFSETTO:-0400
TZNAME:EDT
DTSTART:20260308T070000
END:DAYLIGHT
BEGIN:STANDARD
TZOFFSETFROM:-0400
TZOFFSETTO:-0500
TZNAME:EST
DTSTART:20261101T060000
END:STANDARD
BEGIN:DAYLIGHT
TZOFFSETFROM:-0500
TZOFFSETTO:-0400
TZNAME:EDT
DTSTART:20270314T070000
END:DAYLIGHT
BEGIN:STANDARD
TZOFFSETFROM:-0400
TZOFFSETTO:-0500
TZNAME:EST
DTSTART:20271107T060000
END:STANDARD
END:VTIMEZONE
BEGIN:VEVENT
DTSTART;TZID=America/New_York:20260218T110000
DTEND;TZID=America/New_York:20260218T123000
DTSTAMP:20260420T072421
CREATED:20260210T170158Z
LAST-MODIFIED:20260210T170158Z
UID:10005038-1771412400-1771417800@stonewallcolumbus.org
SUMMARY:Trailblazers - Digital Education Series - Class 8
DESCRIPTION:Feb 18th\, 2026/Class 8\nPhotos\, Videos & Your Phone Camera\nEnjoy taking\, finding\, and sharing photos with confidence. This class explores phone camera features\, simple editing tools. We’ll see how photos and videos are safely stored online\, so memories stay easy to access and enjoy. \n\n\nThis Digital Education Series is tailored for adults over 55 who want to learn more about technology.\n\n\n\n\nNo experience required—just bring your curiosity!\n\nAttend in person at Stonewall Columbus – 1160 N. High St. \n\nAttendees are NOT required to attend all courses. Choose the classes that fit your needs!\n\nThis Digital Education Series is made possible through a grant from Spectrum.
URL:https://stonewallcolumbus.org/event/trailblazers-digital-education-series-class-8/
LOCATION:1160 N High Columbus\, Ohio 43201\, 1160 N High St\, Columbus\, OH\, United States
CATEGORIES:Community Calendar,Featured,Trailblazers
ATTACH;FMTTYPE=image/jpeg:https://stonewallcolumbus.org/wp-content/uploads/2025/08/Digital-Literacy.jpg
ORGANIZER;CN="Stonewall Columbus":MAILTO:info@stonewallcolumbus.org
GEO:39.9860681;-83.0050744
X-APPLE-STRUCTURED-LOCATION;VALUE=URI;X-ADDRESS=1160 N High Columbus Ohio 43201 1160 N High St Columbus OH United States;X-APPLE-RADIUS=500;X-TITLE=1160 N High St:geo:-83.0050744,39.9860681
END:VEVENT
BEGIN:VEVENT
DTSTART;TZID=America/New_York:20260225T110000
DTEND;TZID=America/New_York:20260225T123000
DTSTAMP:20260420T072421
CREATED:20260210T170420Z
LAST-MODIFIED:20260210T233531Z
UID:10005039-1772017200-1772022600@stonewallcolumbus.org
SUMMARY:Trailblazers - Digital Education Series - Class 9
DESCRIPTION:Feb 25th\, 2026/Class 9\nBackups & Digital Peace of Mind\nFeel more confident knowing your important information is safe. This class explains what backups are\, what they protect\, and how phones and computers quietly save photos\, contacts\, and messages — so your memories and connections stay secure and ready whenever you need them. \n\n\nThis Digital Education Series is tailored for adults over 55 who want to learn more about technology.\n\n\n\n\nNo experience required—just bring your curiosity!\n\nAttend in person at Stonewall Columbus – 1160 N. High St. \n\nAttendees are NOT required to attend all courses. Choose the classes that fit your needs!\n\nThis Digital Education Series is made possible through a grant from Spectrum.
URL:https://stonewallcolumbus.org/event/trailblazers-digital-education-series-class-9/
LOCATION:1160 N High Columbus\, Ohio 43201\, 1160 N High St\, Columbus\, OH\, United States
CATEGORIES:Community Calendar,Featured,Trailblazers
ATTACH;FMTTYPE=image/jpeg:https://stonewallcolumbus.org/wp-content/uploads/2025/08/Digital-Literacy.jpg
ORGANIZER;CN="Stonewall Columbus":MAILTO:info@stonewallcolumbus.org
GEO:39.9860681;-83.0050744
X-APPLE-STRUCTURED-LOCATION;VALUE=URI;X-ADDRESS=1160 N High Columbus Ohio 43201 1160 N High St Columbus OH United States;X-APPLE-RADIUS=500;X-TITLE=1160 N High St:geo:-83.0050744,39.9860681
END:VEVENT
BEGIN:VEVENT
DTSTART;TZID=America/New_York:20260304T163000
DTEND;TZID=America/New_York:20260304T183000
DTSTAMP:20260420T072421
CREATED:20260116T210457Z
LAST-MODIFIED:20260217T023233Z
UID:10005024-1772641800-1772649000@stonewallcolumbus.org
SUMMARY:Stonewall Trailblazers Happy Hour!
DESCRIPTION:Join Stonewall Trailblazers for happy hour at Slammers! Be in community with friends old and new as we gather to connect\, catch up\, and celebrate the year ahead. \nThis casual\, social gathering is a great opportunity to meet fellow Trailblazers and enjoy time together in a welcoming space. \nAll Trailblazers welcome. No registration required—just stop by and say hello! \n\nStonewall Trailblazers is Stonewall Columbus’ 55+ program\, creating space for LGBTQ+ older adults and allies to connect\, engage\, and build community.
URL:https://stonewallcolumbus.org/event/stonewall-trailblazers-happy-hour-2/
LOCATION:OH
CATEGORIES:Community Calendar,Featured,Trailblazers
ATTACH;FMTTYPE=image/jpeg:https://stonewallcolumbus.org/wp-content/uploads/2016/09/HappyHour6.jpg
ORGANIZER;CN="Stonewall Columbus":MAILTO:info@stonewallcolumbus.org
END:VEVENT
BEGIN:VEVENT
DTSTART;TZID=America/New_York:20260306T170000
DTEND;TZID=America/New_York:20260306T190000
DTSTAMP:20260420T072421
CREATED:20260209T202318Z
LAST-MODIFIED:20260209T202318Z
UID:10005036-1772816400-1772823600@stonewallcolumbus.org
SUMMARY:Lucky Blu Band - LGBTQ Happy Hour Performance
DESCRIPTION:Happy hour with the old lesbian band\, Lucky Blu.\n\n\n\nEldorados\n4968 N High st\nColumbus\, Ohio 43214\nUnited States
URL:https://stonewallcolumbus.org/event/lucky-blu-band-lgbtq-happy-hour-performance/
LOCATION:OH
CATEGORIES:Community Calendar,Trailblazers
ATTACH;FMTTYPE=image/jpeg:https://stonewallcolumbus.org/wp-content/uploads/2026/02/Lucky-Blu-scaled.jpeg
END:VEVENT
BEGIN:VEVENT
DTSTART;TZID=America/New_York:20260311T170000
DTEND;TZID=America/New_York:20260311T183000
DTSTAMP:20260420T072421
CREATED:20260219T032703Z
LAST-MODIFIED:20260219T032703Z
UID:10005063-1773248400-1773253800@stonewallcolumbus.org
SUMMARY:Wellness Unlocked: 8 Keys to Mental Strength
DESCRIPTION:A workshop by Dragonfly Counseling and Wellness in partnership with Stonewall Columbus. \nThis 90-minute interactive workshop introduces participants to the 8 Dimensions of Wellness—emotional\, physical\, social\, intellectual\, spiritual\, occupational\, financial\, and environmental—and how they collectively influence mental health and overall well-being. \n Register!
URL:https://stonewallcolumbus.org/event/wellness-unlocked-8-keys-to-mental-strength/
LOCATION:OH
CATEGORIES:Community Calendar,Featured,Trailblazers,Workshops and Seminars
ATTACH;FMTTYPE=image/jpeg:https://stonewallcolumbus.org/wp-content/uploads/2026/02/Butterfly.jpg
ORGANIZER;CN="Stonewall Columbus":MAILTO:info@stonewallcolumbus.org
END:VEVENT
BEGIN:VEVENT
DTSTART;TZID=America/New_York:20260312T150000
DTEND;TZID=America/New_York:20260312T173000
DTSTAMP:20260420T072421
CREATED:20260217T024736Z
LAST-MODIFIED:20260224T010048Z
UID:10005040-1773327600-1773336600@stonewallcolumbus.org
SUMMARY:Trailblazers: Top Golf Columbus
DESCRIPTION:Trailblazers trip to visit Top Golf Columbus \nJoin the Trailblazers for this trip to Top Golf Columbus- 2000 Ikea Way Columbus OH. \nWe will have light beverages\, snacks and time to play! \nCome out and Play with the Trailblazers! \n Register!\n\nStonewall Trailblazers is Stonewall Columbus’ 55+ program\, creating space for LGBTQ+ older adults and allies to connect\, engage\, and build community.
URL:https://stonewallcolumbus.org/event/trailblazers-top-golf-columbus/
LOCATION:OH
CATEGORIES:Trailblazers
ATTACH;FMTTYPE=image/jpeg:https://stonewallcolumbus.org/wp-content/uploads/2026/02/golf-1.jpeg
ORGANIZER;CN="Stonewall Columbus":MAILTO:info@stonewallcolumbus.org
END:VEVENT
BEGIN:VEVENT
DTSTART;TZID=America/New_York:20260314T100000
DTEND;TZID=America/New_York:20260314T120000
DTSTAMP:20260420T072421
CREATED:20250926T153719Z
LAST-MODIFIED:20260122T195911Z
UID:10004514-1773482400-1773489600@stonewallcolumbus.org
SUMMARY:Adventure Pride
DESCRIPTION:Hit the trails with us on YOUR next adventure!\n\nPlease complete the form below to share more about yourself and which activities you’re interested in joining.  The information you provide will only be shared with the program facilitator and staff at Stonewall – your contact information will only be used for the express purpose of this program\, unless you opt in to receiving our monthly newsletter. \nHere is some info about this year’s activities that may help you decide which are best for you: \n\nAll activities meet at 10am on Saturdays\nThe specific meet-up locations will be emailed to you on the Friday before each outing\nWe will share details about each location\, to the best of our knowledge\, including ADA accessibility\, difficulty level\, and if pets are welcome (service animals are always welcome)\nThe facilitator will have a liability waiver for you to sign before the start of each outing\n\n\nOur facilitator is Gabe McDonald (he/him) – learn a bit more about Gabe below:\nHello fellow queer adventurers! My name is Gabe and I’m beyond thrilled to join Stonewall Columbus as the Adventure Pride Facilitator. I am a Columbus native and lived in Boston for 10 years before returning to my home state to live my exuberant queer life here in the Midwest. I currently live in the Short North with my amazing daughter and my delightfully silly dog. \nI’m an engineer by day but love to get outside and experience the wholeness of the wild\, natural world. I love rock climbing\, mud races\, kayaking\, gardening\, painting\, and improv. My most recent adventure was a 130-mile solo kayaking trip that left from Columbus and followed the Scioto River until it merged into Ohio River. It was as fun as it was challenging\, and the time in nature empowered me to connect to my inner strength and beauty. \nI hope to use my role at Stonewall to do some of my favorite things: connecting with people\, honoring my body through movement\, and being out in nature. I’m so excited to meet you all as we go on outdoor adventures and explore some of the amazing space central Ohio has to offer. \n 
URL:https://stonewallcolumbus.org/event/adventure-pride-2/2026-03-14/
LOCATION:OH
CATEGORIES:Adventure Pride,Community Calendar,Family Pride Network,Featured,PRIDE,PRIDE365,Trailblazers,Trans Social Group,Veterans
ATTACH;FMTTYPE=image/jpeg:https://stonewallcolumbus.org/wp-content/uploads/2025/09/AdventurePride-Cropped.jpg
ORGANIZER;CN="Stonewall Columbus":MAILTO:info@stonewallcolumbus.org
END:VEVENT
BEGIN:VEVENT
DTSTART;TZID=America/New_York:20260318T110000
DTEND;TZID=America/New_York:20260318T123000
DTSTAMP:20260420T072421
CREATED:20260217T025838Z
LAST-MODIFIED:20260217T025838Z
UID:10005041-1773831600-1773837000@stonewallcolumbus.org
SUMMARY:Trailblazers - Digital Education Series - Class 10
DESCRIPTION:March 18th\, 2026/Class 10 – Documents Made Simple: Microsoft\, Google\, and Everyday Keyboard & Touch Commands\nLearn how to manage everyday documents in Microsoft Office and Google Docs while practicing everyday keyboard and touch commands that work across apps and devices. Participants work hands-on with opening\, saving\, editing\, and sharing files\, along with familiar commands—like selecting text\, copying and pasting\, and finding information—that make daily tasks easier. This class emphasizes confidence\, consistency\, and comfort using Spectrum-provided laptops and personal phones. \n\n\nThis Digital Education Series is tailored for adults over 55 who want to learn more about technology.\n\n\n\n\nNo experience required—just bring your curiosity!\n\nAttend in person at Stonewall Columbus – 1160 N. High St. \n\nAttendees are NOT required to attend all courses. Choose the classes that fit your needs!\n\nThis Digital Education Series is made possible through a grant from Spectrum.
URL:https://stonewallcolumbus.org/event/trailblazers-digital-education-series-class-10/
LOCATION:1160 N High Columbus\, Ohio 43201\, 1160 N High St\, Columbus\, OH\, United States
CATEGORIES:Community Calendar,Featured,Trailblazers
ATTACH;FMTTYPE=image/jpeg:https://stonewallcolumbus.org/wp-content/uploads/2025/08/Digital-Literacy.jpg
ORGANIZER;CN="Stonewall Columbus":MAILTO:info@stonewallcolumbus.org
GEO:39.9860681;-83.0050744
X-APPLE-STRUCTURED-LOCATION;VALUE=URI;X-ADDRESS=1160 N High Columbus Ohio 43201 1160 N High St Columbus OH United States;X-APPLE-RADIUS=500;X-TITLE=1160 N High St:geo:-83.0050744,39.9860681
END:VEVENT
BEGIN:VEVENT
DTSTART;TZID=America/New_York:20260322T140000
DTEND;TZID=America/New_York:20260322T163000
DTSTAMP:20260420T072421
CREATED:20260217T154121Z
LAST-MODIFIED:20260217T154121Z
UID:10005062-1774188000-1774197000@stonewallcolumbus.org
SUMMARY:Trailblazers: Miss Saigon at Short North Stage
DESCRIPTION:Step into the intense and tumultuous world of “Miss Saigon”\, where love and war collide in a story that is as explosive as it is heartbreaking. Set against the backdrop of the Vietnam War\, this musical follows the tragic romance between a young Vietnamese woman and an American Gi whose lives are forever changed by the chaos around them. \n Register!\n\nStonewall Columbus Trailblazers is a program designed for LGBTQ+ community members and allies ages 55 and older.
URL:https://stonewallcolumbus.org/event/trailblazers-miss-saigon-at-short-north-stage/
LOCATION:Short North Stage\, 1187 North High Street\, Columbus\, OH\, 43201\, United States
CATEGORIES:Community Calendar,PRIDE365,Trailblazers
ATTACH;FMTTYPE=image/jpeg:https://stonewallcolumbus.org/wp-content/uploads/2026/02/miss-sai.jpeg
ORGANIZER;CN="Stonewall Columbus":MAILTO:info@stonewallcolumbus.org
END:VEVENT
BEGIN:VEVENT
DTSTART;TZID=America/New_York:20260322T170000
DTEND;TZID=America/New_York:20260322T180000
DTSTAMP:20260420T072421
CREATED:20260217T034142Z
LAST-MODIFIED:20260217T034142Z
UID:10005060-1774198800-1774202400@stonewallcolumbus.org
SUMMARY:Line Dancing with the Trailblazers
DESCRIPTION:MARCH 22nd & 29th\n5:00PM-6:00PM – Doors open at 4:45PM \nSTONEWALL COLUMBUS\n1160 N HIGH STREET \nPut on your boots and kick up your heels! \nLine dancing returns at Stonewall. Again\, Geri Rousculp and Sharon Kellum will be your instructors for this fun class. No experience necessary – you come to have a great time. The class runs from 5:00PM-6:00PM at Stonewall\, with the doors opening at 4:45PM
URL:https://stonewallcolumbus.org/event/line-dancing-with-the-trailblazers-5/
LOCATION:Stonewall Columbus\, 1160 North High Street\, Columbus\, OH\, 43201\, United States
CATEGORIES:Community Calendar,Featured,PRIDE365,Trailblazers
ATTACH;FMTTYPE=image/png:https://stonewallcolumbus.org/wp-content/uploads/2025/02/TB-LINE-Dnce.png
ORGANIZER;CN="Stonewall Columbus":MAILTO:info@stonewallcolumbus.org
GEO:39.986041;-83.005015
X-APPLE-STRUCTURED-LOCATION;VALUE=URI;X-ADDRESS=Stonewall Columbus 1160 North High Street Columbus OH 43201 United States;X-APPLE-RADIUS=500;X-TITLE=1160 North High Street:geo:-83.005015,39.986041
END:VEVENT
BEGIN:VEVENT
DTSTART;TZID=America/New_York:20260325T110000
DTEND;TZID=America/New_York:20260325T123000
DTSTAMP:20260420T072421
CREATED:20260217T031901Z
LAST-MODIFIED:20260217T031901Z
UID:10005043-1774436400-1774441800@stonewallcolumbus.org
SUMMARY:Trailblazers - Digital Education Series - Class 11
DESCRIPTION:March 25th\, 2026/Class 11 – Accessibility\, Safety & Hands-Free Help\nDiscover practical phone features that make devices easier to see\, hear\, and use comfortably — including voice commands that let you send texts\, make calls\, and get help without touching the screen. This class also introduces built-in safety tools like emergency features and item trackers\, offering simple\, everyday ways to reduce stress\, stay independent\, and not lose your stuff. \n\n\nThis Digital Education Series is tailored for adults over 55 who want to learn more about technology.\n\n\n\n\nNo experience required—just bring your curiosity!\n\nAttend in person at Stonewall Columbus – 1160 N. High St. \n\nAttendees are NOT required to attend all courses. Choose the classes that fit your needs!\n\nThis Digital Education Series is made possible through a grant from Spectrum.
URL:https://stonewallcolumbus.org/event/trailblazers-digital-education-series-class-11/
LOCATION:1160 N High Columbus\, Ohio 43201\, 1160 N High St\, Columbus\, OH\, United States
CATEGORIES:Community Calendar,Featured,Trailblazers
ATTACH;FMTTYPE=image/jpeg:https://stonewallcolumbus.org/wp-content/uploads/2025/08/Digital-Literacy.jpg
ORGANIZER;CN="Stonewall Columbus":MAILTO:info@stonewallcolumbus.org
GEO:39.9860681;-83.0050744
X-APPLE-STRUCTURED-LOCATION;VALUE=URI;X-ADDRESS=1160 N High Columbus Ohio 43201 1160 N High St Columbus OH United States;X-APPLE-RADIUS=500;X-TITLE=1160 N High St:geo:-83.0050744,39.9860681
END:VEVENT
BEGIN:VEVENT
DTSTART;TZID=America/New_York:20260329T170000
DTEND;TZID=America/New_York:20260329T180000
DTSTAMP:20260420T072421
CREATED:20260217T033607Z
LAST-MODIFIED:20260217T034229Z
UID:10005058-1774803600-1774807200@stonewallcolumbus.org
SUMMARY:Line Dancing with the Trailblazers
DESCRIPTION:MARCH 22nd & 29th\n5:00PM-6:00PM – Doors open at 4:45PM \nSTONEWALL COLUMBUS\n1160 N HIGH STREET \nPut on your boots and kick up your heels! \nLine dancing returns at Stonewall. Again\, Geri Rousculp and Sharon Kellum will be your instructors for this fun class. No experience necessary – you come to have a great time. The class runs from 5:00PM-6:00PM at Stonewall\, with the doors opening at 4:45PM
URL:https://stonewallcolumbus.org/event/line-dancing-with-the-trailblazers-4-2/
LOCATION:Stonewall Columbus\, 1160 North High Street\, Columbus\, OH\, 43201\, United States
CATEGORIES:Community Calendar,Featured,PRIDE365,Trailblazers
ATTACH;FMTTYPE=image/png:https://stonewallcolumbus.org/wp-content/uploads/2025/02/TB-LINE-Dnce.png
ORGANIZER;CN="Stonewall Columbus":MAILTO:info@stonewallcolumbus.org
GEO:39.986041;-83.005015
X-APPLE-STRUCTURED-LOCATION;VALUE=URI;X-ADDRESS=Stonewall Columbus 1160 North High Street Columbus OH 43201 United States;X-APPLE-RADIUS=500;X-TITLE=1160 North High Street:geo:-83.005015,39.986041
END:VEVENT
BEGIN:VEVENT
DTSTART;TZID=America/New_York:20260401T110000
DTEND;TZID=America/New_York:20260401T123000
DTSTAMP:20260420T072421
CREATED:20260217T030306Z
LAST-MODIFIED:20260217T030306Z
UID:10005042-1775041200-1775046600@stonewallcolumbus.org
SUMMARY:Trailblazers - Digital Education Series - Class 12
DESCRIPTION:April 1st\, 2026/Class 12 – Hands-On Practice ?for Everyday Tech Frustrations\nPractice solving common\, real-life technology problems in a supportive\, hands-on setting. Participants will work through everyday issues like rotated screens\, missing apps\, sound problems\, and confusing TVs — learning how to undo mistakes\, try safe fixes\, and figure things out in real time so they leave with practical problem-solving experience they can use at home. \n\n\nThis Digital Education Series is tailored for adults over 55 who want to learn more about technology.\n\n\n\n\nNo experience required—just bring your curiosity!\n\nAttend in person at Stonewall Columbus – 1160 N. High St. \n\nAttendees are NOT required to attend all courses. Choose the classes that fit your needs!\n\nThis Digital Education Series is made possible through a grant from Spectrum.
URL:https://stonewallcolumbus.org/event/trailblazers-digital-education-series-class-12/
LOCATION:1160 N High Columbus\, Ohio 43201\, 1160 N High St\, Columbus\, OH\, United States
CATEGORIES:Community Calendar,Featured,Trailblazers
ATTACH;FMTTYPE=image/jpeg:https://stonewallcolumbus.org/wp-content/uploads/2025/08/Digital-Literacy.jpg
ORGANIZER;CN="Stonewall Columbus":MAILTO:info@stonewallcolumbus.org
GEO:39.9860681;-83.0050744
X-APPLE-STRUCTURED-LOCATION;VALUE=URI;X-ADDRESS=1160 N High Columbus Ohio 43201 1160 N High St Columbus OH United States;X-APPLE-RADIUS=500;X-TITLE=1160 N High St:geo:-83.0050744,39.9860681
END:VEVENT
BEGIN:VEVENT
DTSTART;TZID=America/New_York:20260401T163000
DTEND;TZID=America/New_York:20260401T183000
DTSTAMP:20260420T072421
CREATED:20260323T231403Z
LAST-MODIFIED:20260323T231403Z
UID:10005088-1775061000-1775068200@stonewallcolumbus.org
SUMMARY:Stonewall Trailblazers Happy Hour!
DESCRIPTION:Join Stonewall Trailblazers for happy hour at Slammers! Be in community with friends old and new as we gather to connect\, catch up\, and celebrate the year ahead. \nThis casual\, social gathering is a great opportunity to meet fellow Trailblazers and enjoy time together in a welcoming space. \nAll Trailblazers welcome. No registration required—just stop by and say hello! \n  \nSlammers\n202 E Long St\, Columbus\nColumbus\, Ohio 43215\nUnited States \n\nStonewall Trailblazers is Stonewall Columbus’ 55+ program\, creating space for LGBTQ+ older adults and allies to connect\, engage\, and build community.
URL:https://stonewallcolumbus.org/event/stonewall-trailblazers-happy-hour-3/
LOCATION:Slammer’s Bar & Pizza Kitchen\, 202 E Long Street\, Columbus\, OH\, 43215\, United States
CATEGORIES:Community Calendar,Featured,Trailblazers
ATTACH;FMTTYPE=image/jpeg:https://stonewallcolumbus.org/wp-content/uploads/2016/09/HappyHour6.jpg
ORGANIZER;CN="Stonewall Columbus":MAILTO:info@stonewallcolumbus.org
END:VEVENT
BEGIN:VEVENT
DTSTART;TZID=America/New_York:20260418T100000
DTEND;TZID=America/New_York:20260418T120000
DTSTAMP:20260420T072421
CREATED:20260403T150317Z
LAST-MODIFIED:20260403T150318Z
UID:10004515-1776506400-1776513600@stonewallcolumbus.org
SUMMARY:Adventure Pride
DESCRIPTION:Hit the trails with us on YOUR next adventure!\n\nPlease complete the form below to share more about yourself and which activities you’re interested in joining.  The information you provide will only be shared with the program facilitator and staff at Stonewall – your contact information will only be used for the express purpose of this program\, unless you opt in to receiving our monthly newsletter. \nHere is some info about this year’s activities that may help you decide which are best for you: \n\nAll activities meet at 10am on Saturdays\nThe specific meet-up locations will be emailed to you on the Friday before each outing\nWe will share details about each location\, to the best of our knowledge\, including ADA accessibility\, difficulty level\, and if pets are welcome (service animals are always welcome)\nThe facilitator will have a liability waiver for you to sign before the start of each outing\n\n\nOur facilitator is Gabe McDonald (he/him) – learn a bit more about Gabe below:\nHello fellow queer adventurers! My name is Gabe and I’m beyond thrilled to join Stonewall Columbus as the Adventure Pride Facilitator. I am a Columbus native and lived in Boston for 10 years before returning to my home state to live my exuberant queer life here in the Midwest. I currently live in the Short North with my amazing daughter and my delightfully silly dog. \nI’m an engineer by day but love to get outside and experience the wholeness of the wild\, natural world. I love rock climbing\, mud races\, kayaking\, gardening\, painting\, and improv. My most recent adventure was a 130-mile solo kayaking trip that left from Columbus and followed the Scioto River until it merged into Ohio River. It was as fun as it was challenging\, and the time in nature empowered me to connect to my inner strength and beauty. \nI hope to use my role at Stonewall to do some of my favorite things: connecting with people\, honoring my body through movement\, and being out in nature. I’m so excited to meet you all as we go on outdoor adventures and explore some of the amazing space central Ohio has to offer. \n 
URL:https://stonewallcolumbus.org/event/adventure-pride-2-2/
LOCATION:OH
CATEGORIES:Adventure Pride,Community Calendar,Family Pride Network,Featured,PRIDE,PRIDE365,Trailblazers,Trans Social Group,Veterans
ATTACH;FMTTYPE=image/jpeg:https://stonewallcolumbus.org/wp-content/uploads/2025/09/AdventurePride-Cropped.jpg
ORGANIZER;CN="Stonewall Columbus":MAILTO:info@stonewallcolumbus.org
END:VEVENT
BEGIN:VEVENT
DTSTART;TZID=America/New_York:20260506T163000
DTEND;TZID=America/New_York:20260506T183000
DTSTAMP:20260420T072421
CREATED:20260329T234834Z
LAST-MODIFIED:20260329T235122Z
UID:10005117-1778085000-1778092200@stonewallcolumbus.org
SUMMARY:Stonewall Trailblazers Happy Hour!
DESCRIPTION:Join Stonewall Trailblazers for happy hour at Slammers! Be in community with friends old and new as we gather to connect\, catch up\, and celebrate the year ahead. \nThis casual\, social gathering is a great opportunity to meet fellow Trailblazers and enjoy time together in a welcoming space. \nAll Trailblazers welcome. No registration required—just stop by and say hello! \nSlammers\n202 E Long St\, Columbus\nColumbus\, Ohio 43215
URL:https://stonewallcolumbus.org/event/stonewall-trailblazers-happy-hour-4/
LOCATION:Slammer’s Bar & Pizza Kitchen\, 202 E Long Street\, Columbus\, OH\, 43215\, United States
CATEGORIES:Community Calendar,Featured,Trailblazers
ATTACH;FMTTYPE=image/jpeg:https://stonewallcolumbus.org/wp-content/uploads/2016/09/HappyHour6.jpg
ORGANIZER;CN="Stonewall Columbus":MAILTO:info@stonewallcolumbus.org
END:VEVENT
BEGIN:VEVENT
DTSTART;TZID=America/New_York:20260521T193000
DTEND;TZID=America/New_York:20260521T213000
DTSTAMP:20260420T072421
CREATED:20260410T200843Z
LAST-MODIFIED:20260410T200843Z
UID:10005133-1779391800-1779399000@stonewallcolumbus.org
SUMMARY:Trailblazers: Leather and Lace 2026 at Shadowbox Live
DESCRIPTION:Join the Trailblazers and visit Leather and Lace 2026 – A Music Tribute to the Women of Rock at Shadowbox Live on Thurs May 21st at 7:30 pm. Come out and enjoy this show with the Trailblazers! \nCelebrate the trailblazers and powerhouses who shattered ceilings and rewrote the rules of rock and roll. Leather and Lace shines a musical spotlight on 20 fearless female artists whose voices\, talent\, and unrelenting spirit transformed not just music—but the entire industry. From iconic anthems to revolutionary performances\, this show honors the bold women who inspired generations\, broke barriers\, and continue to shape the soundtrack of our lives. This is a fierce\, electrifying music tribute to their legacy—raw\, unapologetic\, and utterly unforgettable. \n Register!\n\nStonewall Columbus Trailblazers is a program designed for LGBTQ+ community members and allies ages 55 and older.
URL:https://stonewallcolumbus.org/event/trailblazers-leather-and-lace-2026/
LOCATION:Shadowbox Live\, 503 S Front St\, Columbus\, OH\, 43215\, United States
CATEGORIES:Community Calendar,Featured,PRIDE365,Trailblazers
ATTACH;FMTTYPE=image/jpeg:https://stonewallcolumbus.org/wp-content/uploads/2026/04/Leather-and-Lace-2026-Tribute-to-the-Women-of-Rock.jpg
ORGANIZER;CN="Stonewall Columbus":MAILTO:info@stonewallcolumbus.org
GEO:39.9513795;-83.000858
X-APPLE-STRUCTURED-LOCATION;VALUE=URI;X-ADDRESS=Shadowbox Live 503 S Front St Columbus OH 43215 United States;X-APPLE-RADIUS=500;X-TITLE=503 S Front St:geo:-83.000858,39.9513795
END:VEVENT
BEGIN:VEVENT
DTSTART;TZID=America/New_York:20260603T163000
DTEND;TZID=America/New_York:20260603T183000
DTSTAMP:20260420T072421
CREATED:20260329T235135Z
LAST-MODIFIED:20260329T235135Z
UID:10005118-1780504200-1780511400@stonewallcolumbus.org
SUMMARY:Stonewall Trailblazers Happy Hour!
DESCRIPTION:Join Stonewall Trailblazers for happy hour at Slammers! Be in community with friends old and new as we gather to connect\, catch up\, and celebrate the year ahead. \nThis casual\, social gathering is a great opportunity to meet fellow Trailblazers and enjoy time together in a welcoming space. \nAll Trailblazers welcome. No registration required—just stop by and say hello! \nSlammers\n202 E Long St\, Columbus\nColumbus\, Ohio 43215
URL:https://stonewallcolumbus.org/event/stonewall-trailblazers-happy-hour-5/
LOCATION:Slammer’s Bar & Pizza Kitchen\, 202 E Long Street\, Columbus\, OH\, 43215\, United States
CATEGORIES:Community Calendar,Featured,Trailblazers
ATTACH;FMTTYPE=image/jpeg:https://stonewallcolumbus.org/wp-content/uploads/2016/09/HappyHour6.jpg
ORGANIZER;CN="Stonewall Columbus":MAILTO:info@stonewallcolumbus.org
END:VEVENT
END:VCALENDAR