BEGIN:VCALENDAR
VERSION:2.0
PRODID:-//Stonewall Columbus - ECPv6.15.20//NONSGML v1.0//EN
CALSCALE:GREGORIAN
METHOD:PUBLISH
X-WR-CALNAME:Stonewall Columbus
X-ORIGINAL-URL:https://stonewallcolumbus.org
X-WR-CALDESC:Events for Stonewall Columbus
REFRESH-INTERVAL;VALUE=DURATION:PT1H
X-Robots-Tag:noindex
X-PUBLISHED-TTL:PT1H
BEGIN:VTIMEZONE
TZID:America/New_York
BEGIN:DAYLIGHT
TZOFFSETFROM:-0500
TZOFFSETTO:-0400
TZNAME:EDT
DTSTART:20240310T070000
END:DAYLIGHT
BEGIN:STANDARD
TZOFFSETFROM:-0400
TZOFFSETTO:-0500
TZNAME:EST
DTSTART:20241103T060000
END:STANDARD
BEGIN:DAYLIGHT
TZOFFSETFROM:-0500
TZOFFSETTO:-0400
TZNAME:EDT
DTSTART:20250309T070000
END:DAYLIGHT
BEGIN:STANDARD
TZOFFSETFROM:-0400
TZOFFSETTO:-0500
TZNAME:EST
DTSTART:20251102T060000
END:STANDARD
BEGIN:DAYLIGHT
TZOFFSETFROM:-0500
TZOFFSETTO:-0400
TZNAME:EDT
DTSTART:20260308T070000
END:DAYLIGHT
BEGIN:STANDARD
TZOFFSETFROM:-0400
TZOFFSETTO:-0500
TZNAME:EST
DTSTART:20261101T060000
END:STANDARD
END:VTIMEZONE
BEGIN:VEVENT
DTSTART;VALUE=DATE:20251202
DTEND;VALUE=DATE:20251204
DTSTAMP:20260420T095651
CREATED:20251112T181307Z
LAST-MODIFIED:20251112T182500Z
UID:10004825-1764637200-1764723599@stonewallcolumbus.org
SUMMARY:Giving Tuesday
DESCRIPTION:This Giving Tuesday\, join Stonewall Columbus to help raise $50\,000 to keep The Center @ Work supporting our programs\, connecting community to services\, and the Center as a safer space that empowers our LGBTQ+ community across Columbus and Central Ohio. \nHow to Get Involved: \nVisit our Giving Tuesday Page \nClick “Join this campaign” to:\n• Join as an individual fundraiser\n• Join an existing team (such as the Stonewall Staff\, Volunteer\, or Program Facilitators Teams)\n• Create your own team with friends\, coworkers\, or your ERG/BRG \nCustomize your page with a photo\, set a fundraising goal\, and share why Stonewall matters to you. \nShare your page with friends\, family\, coworkers\, and social networks to help spread the word. \nRewards and Recognition:\nFundraisers and teams will receive special recognition and prizes this year for their contributions to helping us reach our goal. Visit the campaign page to learn more and track progress throughout Giving Tuesday. \nTogether\, we can reach our $50\,000 goal and keep The Center @ Work\, creating connections\, fostering inclusion\, and ensuring our community thrives.
URL:https://stonewallcolumbus.org/event/giving-tuesday-2/
LOCATION:Stonewall Columbus\, 1160 North High Street\, Columbus\, OH\, 43201\, United States
CATEGORIES:Adventure Pride,Community Calendar,Family Pride Network,Featured,PRIDE,PRIDE365,Trailblazers,Trans Social Group,Veterans
ATTACH;FMTTYPE=image/jpeg:https://stonewallcolumbus.org/wp-content/uploads/2025/11/Giving-Tuesday-04_Steven-Nikolakis.jpg
ORGANIZER;CN="Stonewall Columbus":MAILTO:info@stonewallcolumbus.org
GEO:39.986041;-83.005015
X-APPLE-STRUCTURED-LOCATION;VALUE=URI;X-ADDRESS=Stonewall Columbus 1160 North High Street Columbus OH 43201 United States;X-APPLE-RADIUS=500;X-TITLE=1160 North High Street:geo:-83.005015,39.986041
END:VEVENT
BEGIN:VEVENT
DTSTART;TZID=America/New_York:20251202T120000
DTEND;TZID=America/New_York:20251202T180000
DTSTAMP:20260420T095651
CREATED:20250903T144916Z
LAST-MODIFIED:20250915T154032Z
UID:10004489-1764676800-1764698400@stonewallcolumbus.org
SUMMARY:Blood Drive at Stonewall
DESCRIPTION:BE A LIFELINE – Join Stonewall Columbus and the American Red Cross on:\nTuesday\, December 2\, 2025\n12:00 PM – 6:00 PM\n@Stonewall Columbus\n1160 N High Street\, Columbus\, OH 43201\nLIMITED SPACES AVAILABLE – CLICK HERE TO REGISTER \nIf you’re eligible to donate\, schedule your appointment today by visiting RedCrossBlood.org\, using sponsor code PRIDE or call 1-800-RED CROSS (1-800-733-2767) \nAre you curious why an LGBTQ+ center would host a blood drive? Learn about changes in donor restrictions and why it’s more important than ever to donate blood from folks on the Bio-Med team of the Red Cross: tinyurl.com/RedCross-AtTheCenter \n \nThe American Red Cross is teaming up with the legendary PAC-MAN™ to celebrate 45 years of chomping dots and saving lives?—?and we’re inviting you back to play!\nAmerican Red Cross x PAC-MAN Socks\nCome to give at Stonewall Columbus Dec. 2\, 2025\, and snag an exclusive pair of Red Cross x PAC-MAN socks\,\nwhile supplies last!
URL:https://stonewallcolumbus.org/event/blood-drive-at-stonewall-3/
LOCATION:Stonewall Columbus\, 1160 North High Street\, Columbus\, OH\, 43201\, United States
CATEGORIES:Adventure Pride,Community Calendar,Family Pride Network,Featured,PRIDE,PRIDE365,Trailblazers,Trans Social Group,Veterans
ATTACH;FMTTYPE=image/jpeg:https://stonewallcolumbus.org/wp-content/uploads/2021/03/BloodDrive_FB_Event_Cover.jpg
ORGANIZER;CN="Stonewall Columbus":MAILTO:info@stonewallcolumbus.org
GEO:39.986041;-83.005015
X-APPLE-STRUCTURED-LOCATION;VALUE=URI;X-ADDRESS=Stonewall Columbus 1160 North High Street Columbus OH 43201 United States;X-APPLE-RADIUS=500;X-TITLE=1160 North High Street:geo:-83.005015,39.986041
END:VEVENT
BEGIN:VEVENT
DTSTART;TZID=America/New_York:20251202T170000
DTEND;TZID=America/New_York:20251202T210000
DTSTAMP:20260420T095651
CREATED:20250214T184444Z
LAST-MODIFIED:20250829T175521Z
UID:10004209-1764694800-1764709200@stonewallcolumbus.org
SUMMARY:Stonewall After Dark with Central Outreach
DESCRIPTION:Stonewall After Dark is here!\nEvery Tuesday and Wednesday from 5 PM to 9 PM at @stonewallcolumbus. ? Yes\, this will also coincide with the amazing Trans Taco Tuesday support group when scheduled. \nGet tested\, start PrEP\, and take charge of your health. ? We are here for you! #centraloutreach
URL:https://stonewallcolumbus.org/event/stonewall-after-dark-with-central-outreach/2025-12-02/
LOCATION:Stonewall Columbus\, 1160 North High Street\, Columbus\, OH\, 43201\, United States
CATEGORIES:Adventure Pride,Community Calendar,Family Pride Network,Featured,Health,PRIDE,PRIDE365,Trailblazers,Trans Social Group,Veterans
ATTACH;FMTTYPE=image/jpeg:https://stonewallcolumbus.org/wp-content/uploads/2025/02/Stonewall-AfterDark-Social-Feed.jpg
ORGANIZER;CN="Stonewall Columbus":MAILTO:info@stonewallcolumbus.org
GEO:39.986041;-83.005015
X-APPLE-STRUCTURED-LOCATION;VALUE=URI;X-ADDRESS=Stonewall Columbus 1160 North High Street Columbus OH 43201 United States;X-APPLE-RADIUS=500;X-TITLE=1160 North High Street:geo:-83.005015,39.986041
END:VEVENT
BEGIN:VEVENT
DTSTART;TZID=America/New_York:20251203T163000
DTEND;TZID=America/New_York:20251203T180000
DTSTAMP:20260420T095651
CREATED:20251111T041144Z
LAST-MODIFIED:20251111T041144Z
UID:10004820-1764779400-1764784800@stonewallcolumbus.org
SUMMARY:TRAILBLAZERS HAPPY HOUR @ SLAMMERS
DESCRIPTION:DECEMBER 3RD\n4:30PM-6:00PM \nSLAMMERS\n202 E Long St \nOur monthly Happy Hour is from 4:30-6:30 at Slammers\,202 E. Long Street. As always\, we will enjoy Slammer’s delicious pizza provided by Stonewall while you have your favorite beverage and visit with your friends. If you have not joined us at our Happy Hour\, make this the month that you come by!
URL:https://stonewallcolumbus.org/event/trailblazers-happy-hour-slammers-2/
LOCATION:Slammer’s Bar & Pizza Kitchen\, 202 E Long Street\, Columbus\, OH\, 43215\, United States
CATEGORIES:Adventure Pride,Community Calendar,Featured,PRIDE,PRIDE365,Trailblazers,Trans Social Group,Veterans
ATTACH;FMTTYPE=image/jpeg:https://stonewallcolumbus.org/wp-content/uploads/2025/11/SLAMMERS.jpg
ORGANIZER;CN="Stonewall Columbus":MAILTO:info@stonewallcolumbus.org
END:VEVENT
BEGIN:VEVENT
DTSTART;TZID=America/New_York:20251203T183000
DTEND;TZID=America/New_York:20251203T193000
DTSTAMP:20260420T095651
CREATED:20251024T140056Z
LAST-MODIFIED:20251024T171315Z
UID:10004815-1764786600-1764790200@stonewallcolumbus.org
SUMMARY:WOMEN’S OUT NETWORK
DESCRIPTION:This peer-support group is open to all women: transgender or cisgender\, Lesbian\, Bi\, Pan\, Ace\, Demi\, Queer\, and any woman still figuring things out (regardless of age) – ALL women are welcome! \nWe discuss and compare notes in a safe environment with a focus on: \n\nKnowing and accepting yourself\nMaintaining or gaining health during a time of significant change\nGetting to know the LGBTQ+ Community.\n\nAlthough the group is facilitated by a trained coordinator\, this group is a peer-directed community group created to provide mutual support and shared experience. This group is not intended as a mental health treatment. \nTo register Women’s Out Network\, please complete this NEW PARTICIPANT FORM.  Questions? Please email outwomen@stonewallcolumbus.org or call (614) 930-2274 to leave a voicemail with your name and email\, which will be returned within 48 hours. \nThere is a brief screening process and we require a commitment of participation in order for this group to be truly peer-driven and community-building.”
URL:https://stonewallcolumbus.org/event/womens-out-network-3/2025-12-03/
LOCATION:Stonewall Columbus\, 1160 North High Street\, Columbus\, OH\, 43201\, United States
CATEGORIES:Adventure Pride,Community Calendar,Featured,PRIDE,PRIDE365,Trailblazers,Trans Social Group,Veterans
ATTACH;FMTTYPE=image/png:https://stonewallcolumbus.org/wp-content/uploads/2025/10/WON-website-660x335-1.png
GEO:39.986041;-83.005015
X-APPLE-STRUCTURED-LOCATION;VALUE=URI;X-ADDRESS=Stonewall Columbus 1160 North High Street Columbus OH 43201 United States;X-APPLE-RADIUS=500;X-TITLE=1160 North High Street:geo:-83.005015,39.986041
END:VEVENT
BEGIN:VEVENT
DTSTART;TZID=America/New_York:20251205T173000
DTEND;TZID=America/New_York:20251205T203000
DTSTAMP:20260420T095651
CREATED:20250829T194838Z
LAST-MODIFIED:20250829T194838Z
UID:10004487-1764955800-1764966600@stonewallcolumbus.org
SUMMARY:Queer Yoga at Stonewall
DESCRIPTION:Come join us for a relaxing and inclusive yoga session. This event is a safe space for individuals of all identities and experience levels to come together and practice yoga in a welcoming environment. So grab your gear\, wear something comfy\, and get ready to stretch\, breathe\, and connect with your community! \nSTUDENT CHECK IN – can start up to 15 minutes before class. Instructors provide physical waivers or iPad. Water provided (courtesy of Stonewall)\, but participants are welcome to bring their own if desired. \nMATS & PROPS – provided for participants (courtesy of Central Outreach & Stonewall)\, but participants are welcome to bring their own if desired. \nCLASS TIME – 1 HR yoga practice + approx. 30 MIN mindfulness discussion/community engagement/socializing \nCLASS DESCRIPTION \nQueer Yoga is a mindfulness-based program offered to the LGBTQ+ community that promotes holistic health & wellness for Queer folx. \nSafe & supportive allies of Queer Yoga participants\, are also welcome to attend in solidarity with their family and/or friends. \nEach class offering is beginner-friendly. Instructors make the class accessible for 1st-timers\, and offer alternative poses for more advanced practitioners. \nThe program features a variety of styles and approaches\, but mainly integrates Restorative Yoga\, Hatha Yoga\, and/or Vinyasa Yoga coupled with meditation & breathwork. \nQueer Yoga upholds a platform of diversity & inclusion within the yoga teacher rotation\, to honor the fact that representation matters for students. All students are welcomed and affirmed. \nDECEMBER 5TH – Queer Yoga at Stonewall Tickets\, Fri\, Dec 5\, 2025 at 6:30 PM | Eventbrite
URL:https://stonewallcolumbus.org/event/queer-yoga-at-stonewall-16-3/
LOCATION:Stonewall Columbus\, 1160 North High Street\, Columbus\, OH\, 43201\, United States
CATEGORIES:Adventure Pride,Community Calendar,Family Pride Network,Featured,Health,PRIDE,PRIDE365,Trailblazers,Trans Social Group,Veterans
ATTACH;FMTTYPE=image/jpeg:https://stonewallcolumbus.org/wp-content/uploads/2024/09/QueerYoga.jpg
ORGANIZER;CN="Stonewall Columbus":MAILTO:info@stonewallcolumbus.org
GEO:39.986041;-83.005015
X-APPLE-STRUCTURED-LOCATION;VALUE=URI;X-ADDRESS=Stonewall Columbus 1160 North High Street Columbus OH 43201 United States;X-APPLE-RADIUS=500;X-TITLE=1160 North High Street:geo:-83.005015,39.986041
END:VEVENT
END:VCALENDAR