BEGIN:VCALENDAR
VERSION:2.0
PRODID:-//Stonewall Columbus - ECPv6.15.20//NONSGML v1.0//EN
CALSCALE:GREGORIAN
METHOD:PUBLISH
X-WR-CALNAME:Stonewall Columbus
X-ORIGINAL-URL:https://stonewallcolumbus.org
X-WR-CALDESC:Events for Stonewall Columbus
REFRESH-INTERVAL;VALUE=DURATION:PT1H
X-Robots-Tag:noindex
X-PUBLISHED-TTL:PT1H
BEGIN:VTIMEZONE
TZID:America/New_York
BEGIN:DAYLIGHT
TZOFFSETFROM:-0500
TZOFFSETTO:-0400
TZNAME:EDT
DTSTART:20250309T070000
END:DAYLIGHT
BEGIN:STANDARD
TZOFFSETFROM:-0400
TZOFFSETTO:-0500
TZNAME:EST
DTSTART:20251102T060000
END:STANDARD
BEGIN:DAYLIGHT
TZOFFSETFROM:-0500
TZOFFSETTO:-0400
TZNAME:EDT
DTSTART:20260308T070000
END:DAYLIGHT
BEGIN:STANDARD
TZOFFSETFROM:-0400
TZOFFSETTO:-0500
TZNAME:EST
DTSTART:20261101T060000
END:STANDARD
BEGIN:DAYLIGHT
TZOFFSETFROM:-0500
TZOFFSETTO:-0400
TZNAME:EDT
DTSTART:20270314T070000
END:DAYLIGHT
BEGIN:STANDARD
TZOFFSETFROM:-0400
TZOFFSETTO:-0500
TZNAME:EST
DTSTART:20271107T060000
END:STANDARD
END:VTIMEZONE
BEGIN:VEVENT
DTSTART;TZID=America/New_York:20260604T180000
DTEND;TZID=America/New_York:20260604T200000
DTSTAMP:20260421T095832
CREATED:20260329T234425Z
LAST-MODIFIED:20260329T234425Z
UID:10005116-1780596000-1780603200@stonewallcolumbus.org
SUMMARY:DCCO Connect: An Evening at Slammers!
DESCRIPTION:Join the Diversity Chamber of Central Ohio (DCCO) this June as we celebrate Pride Month with a special edition of our DCCO Connect Series—hosted at Slammers Bar & Pizza Kitchen\, a historic and iconic LGBTQ+ space right here in Columbus. This networking event brings together LGBTQ+ and allied business owners\, professionals\, and community leaders for an evening of connection\, collaboration\, and celebration. During Pride Month\, there is no better time to be intentional about building relationships that strengthen our businesses and our community. \n Get Tickets!\n202 East Long Street\nColumbus\, Ohio 43215
URL:https://stonewallcolumbus.org/event/dcco-connect-an-evening-at-slammers/
CATEGORIES:Business Networking,Community Calendar,Diversity Chamber of Central Ohio,PRIDE,PRIDE365
ATTACH;FMTTYPE=image/png:https://stonewallcolumbus.org/wp-content/uploads/2026/03/DCCO-Connect-Series1.png
END:VEVENT
BEGIN:VEVENT
DTSTART;TZID=America/New_York:20260613T193000
DTEND;TZID=America/New_York:20260613T220000
DTSTAMP:20260421T095832
CREATED:20260329T233714Z
LAST-MODIFIED:20260407T193614Z
UID:10005115-1781379000-1781388000@stonewallcolumbus.org
SUMMARY:Reading the House Down: Columbus's Premiere Sober Drag Show
DESCRIPTION:Come celebrate Pride with Clintonville Books! Reading the House Down is back again for its one-year anniversary celebration\, with a star-studded cast including… \nAxel Grease!\nCalamity Addams!\nEnvy Mwah!\nPoundcake!\nand Sally Goose! \nWith special guest apperances by… \nOcean Unknown!\nand Sue Purr-Nova! \nSaturday\, June 13th.\nDoors open at 7:30pm\, show starts at 8:00pm.\nTickets are $15.00 and on sale now. \nIn an effort to create a queer-affirming space that doesn’t center around alcohol\, no alcoholic beverages will be permitted on the premises. \n Get Tickets!\n3286 N. High Street\nColumbus\, Ohio 43202
URL:https://stonewallcolumbus.org/event/reading-the-house-down-columbus-premiere-sober-drag-show-2026/
CATEGORIES:Community Calendar,Featured,PRIDE,PRIDE365
ATTACH;FMTTYPE=image/png:https://stonewallcolumbus.org/wp-content/uploads/2026/03/RTHD-June-26-flyer.png
END:VEVENT
END:VCALENDAR