BEGIN:VCALENDAR
VERSION:2.0
PRODID:-//Stonewall Columbus - ECPv6.15.20//NONSGML v1.0//EN
CALSCALE:GREGORIAN
METHOD:PUBLISH
X-ORIGINAL-URL:https://stonewallcolumbus.org
X-WR-CALDESC:Events for Stonewall Columbus
REFRESH-INTERVAL;VALUE=DURATION:PT1H
X-Robots-Tag:noindex
X-PUBLISHED-TTL:PT1H
BEGIN:VTIMEZONE
TZID:America/New_York
BEGIN:DAYLIGHT
TZOFFSETFROM:-0500
TZOFFSETTO:-0400
TZNAME:EDT
DTSTART:20250309T070000
END:DAYLIGHT
BEGIN:STANDARD
TZOFFSETFROM:-0400
TZOFFSETTO:-0500
TZNAME:EST
DTSTART:20251102T060000
END:STANDARD
BEGIN:DAYLIGHT
TZOFFSETFROM:-0500
TZOFFSETTO:-0400
TZNAME:EDT
DTSTART:20260308T070000
END:DAYLIGHT
BEGIN:STANDARD
TZOFFSETFROM:-0400
TZOFFSETTO:-0500
TZNAME:EST
DTSTART:20261101T060000
END:STANDARD
BEGIN:DAYLIGHT
TZOFFSETFROM:-0500
TZOFFSETTO:-0400
TZNAME:EDT
DTSTART:20270314T070000
END:DAYLIGHT
BEGIN:STANDARD
TZOFFSETFROM:-0400
TZOFFSETTO:-0500
TZNAME:EST
DTSTART:20271107T060000
END:STANDARD
END:VTIMEZONE
BEGIN:VEVENT
DTSTART;TZID=America/New_York:20260503T130000
DTEND;TZID=America/New_York:20260503T153000
DTSTAMP:20260421T084154
CREATED:20260420T165103Z
LAST-MODIFIED:20260420T165103Z
UID:10005137-1777813200-1777822200@stonewallcolumbus.org
SUMMARY:PFLAG: Navigating Your Own Emotions as a Parent\, Caregiver\, or Ally of an LGBTQ+ Child
DESCRIPTION:Free workshop for parents\, caregivers & allies navigating emotions around supporting an LGBTQ+ loved one. Facilitated by Resonance Columbus. When someone you love comes out as LGBTQ+\, the love doesn’t go anywhere — but the emotions that come with it often have nowhere to go. \nDate: May 03\, 2026 \nTime: 1:00pm- 3:30pm \nWhere: Columbus Public Library: Whetstone Branch | 3909 N. High St | Columbus\, OH 43214 \nWhen someone you love comes out as LGBTQ+\, the love doesn’t go anywhere — but the emotions that come with it often have nowhere to go. \nThis free educational workshop is for parents\, caregivers\, family members\, and allies navigating the emotional landscape that comes with supporting an LGBTQ+ loved one. Whether you’re processing your own feelings\, trying to show up better\, or simply figuring out where to start — this space is for you. Educators\, counselors\, and school staff are also welcome. \nFacilitated in partnership with Gina Minot\, LISW-S of Resonance Columbus\, this session will explore: \n\nThe range of emotions parents and caregivers commonly experience — and why they’re valid\nHow your own emotional processing affects your ability to support your child\nPractical tools for managing feelings like grief\, fear\, guilt\, and uncertainty\nHow to move toward greater connection and understanding\n\nYou don’t have to have it all figured out to be in this room. You just have to be willing to show up. \nPresented by PFLAG Columbus in partnership with Resonance Columbus Gina Minot\, LISW-S | resonancecolumbus.com \nThis event is free and open to all. Registration is required as space is limited. \nReach out to contact@pflagcolumbus.org with any questions.
URL:https://stonewallcolumbus.org/event/pflag-write-to-be-heard-take-action-togethernavigating-your-own-emotions/
LOCATION:Columbus Public Library Whetstone Branch\, 3909 N High St\, Columbus\, Ohio\, 43214
CATEGORIES:Community Calendar,Featured
ATTACH;FMTTYPE=image/jpeg:https://stonewallcolumbus.org/wp-content/uploads/2026/04/Navigating-Emotions-Resonance-Columbus-Final_png_80.jpg
ORGANIZER;CN="PFLAG Columbus":MAILTO:pflagcolumbus@gmail.com
END:VEVENT
BEGIN:VEVENT
DTSTART;TZID=America/New_York:20260505T170000
DTEND;TZID=America/New_York:20260505T210000
DTSTAMP:20260421T084154
CREATED:20260106T220358Z
LAST-MODIFIED:20260106T220358Z
UID:10004932-1778000400-1778014800@stonewallcolumbus.org
SUMMARY:Stonewall After Dark with Central Outreach
DESCRIPTION:Stonewall After Dark is here!\nEvery Tuesday and Wednesday from 5 PM to 9 PM at @stonewallcolumbus. Tuesdays will also coincide with the amazing TRANS TALK TUESDAY Support Group (when scheduled). \nGet tested\, start PrEP\, and take charge of your health. We are here for you!
URL:https://stonewallcolumbus.org/event/stonewall-after-dark-with-central-outreach-5/2026-05-05/
LOCATION:Stonewall Columbus\, 1160 North High Street\, Columbus\, OH\, 43201\, United States
CATEGORIES:Community Calendar,Featured,Health
ATTACH;FMTTYPE=image/jpeg:https://stonewallcolumbus.org/wp-content/uploads/2025/08/Stonewall-AfterDark-NEWHOURS-TVDisplay-scaled.jpg
ORGANIZER;CN="Stonewall Columbus":MAILTO:info@stonewallcolumbus.org
GEO:39.986041;-83.005015
X-APPLE-STRUCTURED-LOCATION;VALUE=URI;X-ADDRESS=Stonewall Columbus 1160 North High Street Columbus OH 43201 United States;X-APPLE-RADIUS=500;X-TITLE=1160 North High Street:geo:-83.005015,39.986041
END:VEVENT
BEGIN:VEVENT
DTSTART;TZID=America/New_York:20260505T190000
DTEND;TZID=America/New_York:20260505T210000
DTSTAMP:20260421T084154
CREATED:20250313T155351Z
LAST-MODIFIED:20260116T204245Z
UID:10004990-1778007600-1778014800@stonewallcolumbus.org
SUMMARY:Trans Talk Tuesday
DESCRIPTION:Trans Talk Tuesday has a home at Stonewall Columbus! \nIn partnership with Central Outreach Wellness Center Trans Talk Tuesday aims to create a space that encourages open dialogue\, connections\, and a sense of belonging.  \nJoin us! Every 1st and 3rd Tuesday of the month here at The Center from 7- 9pm.
URL:https://stonewallcolumbus.org/event/trans-taco-tuesday-4-2/2026-05-05/
LOCATION:Stonewall Columbus\, 1160 North High Street\, Columbus\, OH\, 43201\, United States
CATEGORIES:Community Calendar,Featured,Trans Social Group
ATTACH;FMTTYPE=image/png:https://stonewallcolumbus.org/wp-content/uploads/2025/03/TTT-2025-logo.png
ORGANIZER;CN="Stonewall Columbus":MAILTO:info@stonewallcolumbus.org
GEO:39.986041;-83.005015
X-APPLE-STRUCTURED-LOCATION;VALUE=URI;X-ADDRESS=Stonewall Columbus 1160 North High Street Columbus OH 43201 United States;X-APPLE-RADIUS=500;X-TITLE=1160 North High Street:geo:-83.005015,39.986041
END:VEVENT
BEGIN:VEVENT
DTSTART;TZID=America/New_York:20260506T163000
DTEND;TZID=America/New_York:20260506T183000
DTSTAMP:20260421T084154
CREATED:20260329T234834Z
LAST-MODIFIED:20260329T235122Z
UID:10005117-1778085000-1778092200@stonewallcolumbus.org
SUMMARY:Stonewall Trailblazers Happy Hour!
DESCRIPTION:Join Stonewall Trailblazers for happy hour at Slammers! Be in community with friends old and new as we gather to connect\, catch up\, and celebrate the year ahead. \nThis casual\, social gathering is a great opportunity to meet fellow Trailblazers and enjoy time together in a welcoming space. \nAll Trailblazers welcome. No registration required—just stop by and say hello! \nSlammers\n202 E Long St\, Columbus\nColumbus\, Ohio 43215
URL:https://stonewallcolumbus.org/event/stonewall-trailblazers-happy-hour-4/
LOCATION:Slammer’s Bar & Pizza Kitchen\, 202 E Long Street\, Columbus\, OH\, 43215\, United States
CATEGORIES:Community Calendar,Featured,Trailblazers
ATTACH;FMTTYPE=image/jpeg:https://stonewallcolumbus.org/wp-content/uploads/2016/09/HappyHour6.jpg
ORGANIZER;CN="Stonewall Columbus":MAILTO:info@stonewallcolumbus.org
END:VEVENT
BEGIN:VEVENT
DTSTART;TZID=America/New_York:20260506T170000
DTEND;TZID=America/New_York:20260506T210000
DTSTAMP:20260421T084154
CREATED:20260106T215921Z
LAST-MODIFIED:20260106T220141Z
UID:10004448-1778086800-1778101200@stonewallcolumbus.org
SUMMARY:Stonewall After Dark with Central Outreach
DESCRIPTION:Stonewall After Dark is here!\nEvery Tuesday and Wednesday from 5 PM to 9 PM at @stonewallcolumbus. Tuesdays will also coincide with the amazing TRANS TALK TUESDAY Support Group (when scheduled). \nGet tested\, start PrEP\, and take charge of your health. We are here for you!
URL:https://stonewallcolumbus.org/event/stonewall-after-dark-with-central-outreach-2-3/2026-05-06/
LOCATION:Stonewall Columbus\, 1160 North High Street\, Columbus\, OH\, 43201\, United States
CATEGORIES:Community Calendar,Featured,Health
ATTACH;FMTTYPE=image/jpeg:https://stonewallcolumbus.org/wp-content/uploads/2025/08/Stonewall-AfterDark-NEWHOURS-TVDisplay-scaled.jpg
ORGANIZER;CN="Stonewall Columbus":MAILTO:info@stonewallcolumbus.org
GEO:39.986041;-83.005015
X-APPLE-STRUCTURED-LOCATION;VALUE=URI;X-ADDRESS=Stonewall Columbus 1160 North High Street Columbus OH 43201 United States;X-APPLE-RADIUS=500;X-TITLE=1160 North High Street:geo:-83.005015,39.986041
END:VEVENT
BEGIN:VEVENT
DTSTART;TZID=America/New_York:20260507T191500
DTEND;TZID=America/New_York:20260507T211500
DTSTAMP:20260421T084154
CREATED:20260406T232106Z
LAST-MODIFIED:20260406T232106Z
UID:10005125-1778181300-1778188500@stonewallcolumbus.org
SUMMARY:Stonewall Columbus Ballroom Dance Class - 2026 - April
DESCRIPTION:Our next session starts April 16th – grab your dancing shoes & let’s boogie!\n\n\n\nPlease read through the details of the class thoroughly before completing your transaction. The class takes place over the course of 6 weeks. \nAdvanced participants who have received the go-ahead from Jeff should plan to arrive at 6:15pm. If Jeff has not discussed attending this early session\, please plan to arrive at 7:15pm. \nClass fees:\n\nIndividuals: $30 per person (+cc fees)\nor $20 for Stonewall members (+cc fees)\n\n\nCouples: $50 per couple (+cc fees)\nor $30 for Stonewall members (+cc fees)\n\n\nPayment is required prior to the first class.\n\nThere is a minimum of 4 couples or 8 singles for this class. If the minimum requirement is not met\, the class will be cancelled and class fees will be refunded. \nAbout the Class: Whether you are learning to dance for a special occasion or just want to have some fun on the dance floor\, come learn in an accepting and fun environment. Classes are open to everyone with or without a dance partner\, with all genders and gender pairings welcome. \nEach six-class session rotates between Block 1: Waltz\, Tango\, and Cha Cha & Block 2: Foxtrot\, Rumba\, and Swing. Beginner students will learn the basics of each dance and a few beginner steps. The more advance members of class will build on their prior knowledge of each dance with more advanced moves. \n Register!
URL:https://stonewallcolumbus.org/event/stonewall-columbus-ballroom-dance-class-2026-april/2026-05-07/
LOCATION:1160 N High St Columbus OH 43201
CATEGORIES:Community Calendar,Featured
ATTACH;FMTTYPE=image/jpeg:https://stonewallcolumbus.org/wp-content/uploads/2024/08/SWCBallroom2024.jpg
ORGANIZER;CN="Stonewall Columbus":MAILTO:info@stonewallcolumbus.org
END:VEVENT
BEGIN:VEVENT
DTSTART;TZID=America/New_York:20260508T190000
DTEND;TZID=America/New_York:20260508T200000
DTSTAMP:20260421T084154
CREATED:20260329T200703Z
LAST-MODIFIED:20260406T233358Z
UID:10005091-1778266800-1778270400@stonewallcolumbus.org
SUMMARY:TETHER dance performance
DESCRIPTION:An evening-length dance performance about interconnection and entanglement. Created by Alfonso Cervera\, Mercedes Hicks\, Elizabeth Sugawara & Mollie Wolf; with original live music by Raven Grant. Made possible with generous support from the Greater Columbus Arts Council\, the Ohio State University\, Denison University & Stonewall Columbus. \n Get Tickets!\nColumbus Performing Arts Center – Van Fleet Theatre\n549 Franklin Ave\nColumbus\, Ohio 43215\nUnited States
URL:https://stonewallcolumbus.org/event/tether-dance-performance/
CATEGORIES:Community Calendar,Featured
ATTACH;FMTTYPE=image/jpeg:https://stonewallcolumbus.org/wp-content/uploads/2026/03/TETHER-poster-8.5x11.jpg
END:VEVENT
END:VCALENDAR