BEGIN:VCALENDAR
VERSION:2.0
PRODID:-//Stonewall Columbus - ECPv6.15.20//NONSGML v1.0//EN
CALSCALE:GREGORIAN
METHOD:PUBLISH
X-ORIGINAL-URL:https://stonewallcolumbus.org
X-WR-CALDESC:Events for Stonewall Columbus
REFRESH-INTERVAL;VALUE=DURATION:PT1H
X-Robots-Tag:noindex
X-PUBLISHED-TTL:PT1H
BEGIN:VTIMEZONE
TZID:America/New_York
BEGIN:DAYLIGHT
TZOFFSETFROM:-0500
TZOFFSETTO:-0400
TZNAME:EDT
DTSTART:20250309T070000
END:DAYLIGHT
BEGIN:STANDARD
TZOFFSETFROM:-0400
TZOFFSETTO:-0500
TZNAME:EST
DTSTART:20251102T060000
END:STANDARD
BEGIN:DAYLIGHT
TZOFFSETFROM:-0500
TZOFFSETTO:-0400
TZNAME:EDT
DTSTART:20260308T070000
END:DAYLIGHT
BEGIN:STANDARD
TZOFFSETFROM:-0400
TZOFFSETTO:-0500
TZNAME:EST
DTSTART:20261101T060000
END:STANDARD
BEGIN:DAYLIGHT
TZOFFSETFROM:-0500
TZOFFSETTO:-0400
TZNAME:EDT
DTSTART:20270314T070000
END:DAYLIGHT
BEGIN:STANDARD
TZOFFSETFROM:-0400
TZOFFSETTO:-0500
TZNAME:EST
DTSTART:20271107T060000
END:STANDARD
END:VTIMEZONE
BEGIN:VEVENT
DTSTART;TZID=America/New_York:20260426T120000
DTEND;TZID=America/New_York:20260426T140000
DTSTAMP:20260423T100805
CREATED:20260420T163408Z
LAST-MODIFIED:20260420T163734Z
UID:10005136-1777204800-1777212000@stonewallcolumbus.org
SUMMARY:PFLAG: Write to Be Heard - Take Action Together
DESCRIPTION: Join PFLAG Columbus at Worthington Candleworks in the heart of Old Worthington for an afternoon of advocacy and community. \nDate: April 26\, 2026 \nTime: 12:00pm- 2:00pm \nWhere: Worthington Candle Works | 646 N. High St | Worthington\, OH 43085 \n\n\nJoin PFLAG Columbus for a welcoming\, nonpartisan letter-writing event. Templates\, prompts & snacks provided. Your voice matters. Join PFLAG Columbus and local partners for Write to Be Heard — a welcoming\, action-oriented letter-writing event. \n\n\n\n\nWe’re bringing together LGBTQ+ community organizations\, Employee Resource Groups\, and local creative groups for an afternoon of connection\, creativity\, and purpose. Whether you’ve written to a legislator before or this is your first time\, this space is designed to be approachable and supportive. \nWe’ll provide simple prompts\, optional templates from Equality Ohio\, and background information to help you write messages to elected officials and community leaders in support of LGBTQ+ people and families. You’re also welcome to write from your own experience\, in your own voice. Not sure where to start? Our team is happy to help — and can even send your note for you if you’d like. \nThis is a nonpartisan event focused on making it easier for people to participate in the democratic process and speak up for the people they care about. \nLight snacks provided. Come as you are\, stay as long as you’d like\, and be part of a collective effort to make our voices heard — together. \n\n\nReach out to contact@pflagcolumbus.org with any questions.
URL:https://stonewallcolumbus.org/event/pflag-write-to-be-heard/
LOCATION:646 N High St\, Worthington OH 43085\, 646 N High St\, Worthington\, Ohio\, 43085
CATEGORIES:Community Calendar,Featured
ATTACH;FMTTYPE=image/jpeg:https://stonewallcolumbus.org/wp-content/uploads/2026/04/Write-to-Be-Heard_png_75.jpg
ORGANIZER;CN="PFLAG Columbus":MAILTO:pflagcolumbus@gmail.com
END:VEVENT
BEGIN:VEVENT
DTSTART;TZID=America/New_York:20260428T170000
DTEND;TZID=America/New_York:20260428T210000
DTSTAMP:20260423T100805
CREATED:20260106T220358Z
LAST-MODIFIED:20260106T220358Z
UID:10004931-1777395600-1777410000@stonewallcolumbus.org
SUMMARY:Stonewall After Dark with Central Outreach
DESCRIPTION:Stonewall After Dark is here!\nEvery Tuesday and Wednesday from 5 PM to 9 PM at @stonewallcolumbus. Tuesdays will also coincide with the amazing TRANS TALK TUESDAY Support Group (when scheduled). \nGet tested\, start PrEP\, and take charge of your health. We are here for you!
URL:https://stonewallcolumbus.org/event/stonewall-after-dark-with-central-outreach-5/2026-04-28/
LOCATION:Stonewall Columbus\, 1160 North High Street\, Columbus\, OH\, 43201\, United States
CATEGORIES:Community Calendar,Featured,Health
ATTACH;FMTTYPE=image/jpeg:https://stonewallcolumbus.org/wp-content/uploads/2025/08/Stonewall-AfterDark-NEWHOURS-TVDisplay-scaled.jpg
ORGANIZER;CN="Stonewall Columbus":MAILTO:info@stonewallcolumbus.org
GEO:39.986041;-83.005015
X-APPLE-STRUCTURED-LOCATION;VALUE=URI;X-ADDRESS=Stonewall Columbus 1160 North High Street Columbus OH 43201 United States;X-APPLE-RADIUS=500;X-TITLE=1160 North High Street:geo:-83.005015,39.986041
END:VEVENT
BEGIN:VEVENT
DTSTART;TZID=America/New_York:20260429T170000
DTEND;TZID=America/New_York:20260429T210000
DTSTAMP:20260423T100805
CREATED:20260106T215921Z
LAST-MODIFIED:20260106T220141Z
UID:10004447-1777482000-1777496400@stonewallcolumbus.org
SUMMARY:Stonewall After Dark with Central Outreach
DESCRIPTION:Stonewall After Dark is here!\nEvery Tuesday and Wednesday from 5 PM to 9 PM at @stonewallcolumbus. Tuesdays will also coincide with the amazing TRANS TALK TUESDAY Support Group (when scheduled). \nGet tested\, start PrEP\, and take charge of your health. We are here for you!
URL:https://stonewallcolumbus.org/event/stonewall-after-dark-with-central-outreach-2-3/2026-04-29/
LOCATION:Stonewall Columbus\, 1160 North High Street\, Columbus\, OH\, 43201\, United States
CATEGORIES:Community Calendar,Featured,Health
ATTACH;FMTTYPE=image/jpeg:https://stonewallcolumbus.org/wp-content/uploads/2025/08/Stonewall-AfterDark-NEWHOURS-TVDisplay-scaled.jpg
ORGANIZER;CN="Stonewall Columbus":MAILTO:info@stonewallcolumbus.org
GEO:39.986041;-83.005015
X-APPLE-STRUCTURED-LOCATION;VALUE=URI;X-ADDRESS=Stonewall Columbus 1160 North High Street Columbus OH 43201 United States;X-APPLE-RADIUS=500;X-TITLE=1160 North High Street:geo:-83.005015,39.986041
END:VEVENT
BEGIN:VEVENT
DTSTART;TZID=America/New_York:20260430T191500
DTEND;TZID=America/New_York:20260430T211500
DTSTAMP:20260423T100805
CREATED:20260406T232106Z
LAST-MODIFIED:20260406T232106Z
UID:10005124-1777576500-1777583700@stonewallcolumbus.org
SUMMARY:Stonewall Columbus Ballroom Dance Class - 2026 - April
DESCRIPTION:Our next session starts April 16th – grab your dancing shoes & let’s boogie!\n\n\n\nPlease read through the details of the class thoroughly before completing your transaction. The class takes place over the course of 6 weeks. \nAdvanced participants who have received the go-ahead from Jeff should plan to arrive at 6:15pm. If Jeff has not discussed attending this early session\, please plan to arrive at 7:15pm. \nClass fees:\n\nIndividuals: $30 per person (+cc fees)\nor $20 for Stonewall members (+cc fees)\n\n\nCouples: $50 per couple (+cc fees)\nor $30 for Stonewall members (+cc fees)\n\n\nPayment is required prior to the first class.\n\nThere is a minimum of 4 couples or 8 singles for this class. If the minimum requirement is not met\, the class will be cancelled and class fees will be refunded. \nAbout the Class: Whether you are learning to dance for a special occasion or just want to have some fun on the dance floor\, come learn in an accepting and fun environment. Classes are open to everyone with or without a dance partner\, with all genders and gender pairings welcome. \nEach six-class session rotates between Block 1: Waltz\, Tango\, and Cha Cha & Block 2: Foxtrot\, Rumba\, and Swing. Beginner students will learn the basics of each dance and a few beginner steps. The more advance members of class will build on their prior knowledge of each dance with more advanced moves. \n Register!
URL:https://stonewallcolumbus.org/event/stonewall-columbus-ballroom-dance-class-2026-april/2026-04-30/
LOCATION:1160 N High St Columbus OH 43201
CATEGORIES:Community Calendar,Featured
ATTACH;FMTTYPE=image/jpeg:https://stonewallcolumbus.org/wp-content/uploads/2024/08/SWCBallroom2024.jpg
ORGANIZER;CN="Stonewall Columbus":MAILTO:info@stonewallcolumbus.org
END:VEVENT
BEGIN:VEVENT
DTSTART;TZID=America/New_York:20260501T200000
DTEND;TZID=America/New_York:20260501T213000
DTSTAMP:20260423T100805
CREATED:20260422T174115Z
LAST-MODIFIED:20260422T174446Z
UID:10005257-1777665600-1777671000@stonewallcolumbus.org
SUMMARY:TheatreReset Short Play Festival #7
DESCRIPTION:TheatreReset is a women and nonbinary owned and operated theatre company in Columbus\, Ohio with a focus on original short plays.\nOur seventh festival in May 2026 at the Shedd Theater features 90 minutes of short plays\, including enormous fake mustaches\, two-dollar bills\, bees looking for that doesn’t-really-have-to-be-that-special someone\, and emotionally-charged mugs! \nSaturday’s matinee will feature StageHands ASL interpreters!
URL:https://stonewallcolumbus.org/event/theatre-reset-short-play-festival/2026-05-01/
LOCATION:Shedd Theater\, 549 Franklin Ave\, Columbus\, 43215\, United States
CATEGORIES:Community Calendar,Featured
ATTACH;FMTTYPE=image/jpeg:https://stonewallcolumbus.org/wp-content/uploads/2026/04/TR7-Poster_png_80-scaled.jpg
ORGANIZER;CN="TheatreReset":MAILTO:theatrereset@gmail.com
END:VEVENT
BEGIN:VEVENT
DTSTART;TZID=America/New_York:20260502T140000
DTEND;TZID=America/New_York:20260502T153000
DTSTAMP:20260423T100805
CREATED:20260422T174115Z
LAST-MODIFIED:20260422T174446Z
UID:10005259-1777730400-1777735800@stonewallcolumbus.org
SUMMARY:TheatreReset Short Play Festival #7
DESCRIPTION:TheatreReset is a women and nonbinary owned and operated theatre company in Columbus\, Ohio with a focus on original short plays.\nOur seventh festival in May 2026 at the Shedd Theater features 90 minutes of short plays\, including enormous fake mustaches\, two-dollar bills\, bees looking for that doesn’t-really-have-to-be-that-special someone\, and emotionally-charged mugs! \nSaturday’s matinee will feature StageHands ASL interpreters!
URL:https://stonewallcolumbus.org/event/theatre-reset-short-play-festival/2026-05-02/1/
LOCATION:Shedd Theater\, 549 Franklin Ave\, Columbus\, 43215\, United States
CATEGORIES:Community Calendar,Featured
ATTACH;FMTTYPE=image/jpeg:https://stonewallcolumbus.org/wp-content/uploads/2026/04/TR7-Poster_png_80-scaled.jpg
ORGANIZER;CN="TheatreReset":MAILTO:theatrereset@gmail.com
END:VEVENT
BEGIN:VEVENT
DTSTART;TZID=America/New_York:20260502T200000
DTEND;TZID=America/New_York:20260502T213000
DTSTAMP:20260423T100805
CREATED:20260422T174115Z
LAST-MODIFIED:20260422T174446Z
UID:10005260-1777752000-1777757400@stonewallcolumbus.org
SUMMARY:TheatreReset Short Play Festival #7
DESCRIPTION:TheatreReset is a women and nonbinary owned and operated theatre company in Columbus\, Ohio with a focus on original short plays.\nOur seventh festival in May 2026 at the Shedd Theater features 90 minutes of short plays\, including enormous fake mustaches\, two-dollar bills\, bees looking for that doesn’t-really-have-to-be-that-special someone\, and emotionally-charged mugs! \nSaturday’s matinee will feature StageHands ASL interpreters!
URL:https://stonewallcolumbus.org/event/theatre-reset-short-play-festival/2026-05-02/2/
LOCATION:Shedd Theater\, 549 Franklin Ave\, Columbus\, 43215\, United States
CATEGORIES:Community Calendar,Featured
ATTACH;FMTTYPE=image/jpeg:https://stonewallcolumbus.org/wp-content/uploads/2026/04/TR7-Poster_png_80-scaled.jpg
ORGANIZER;CN="TheatreReset":MAILTO:theatrereset@gmail.com
END:VEVENT
END:VCALENDAR