BEGIN:VCALENDAR
VERSION:2.0
PRODID:-//Stonewall Columbus - ECPv6.15.20//NONSGML v1.0//EN
CALSCALE:GREGORIAN
METHOD:PUBLISH
X-WR-CALNAME:Stonewall Columbus
X-ORIGINAL-URL:https://stonewallcolumbus.org
X-WR-CALDESC:Events for Stonewall Columbus
REFRESH-INTERVAL;VALUE=DURATION:PT1H
X-Robots-Tag:noindex
X-PUBLISHED-TTL:PT1H
BEGIN:VTIMEZONE
TZID:America/New_York
BEGIN:DAYLIGHT
TZOFFSETFROM:-0500
TZOFFSETTO:-0400
TZNAME:EDT
DTSTART:20250309T070000
END:DAYLIGHT
BEGIN:STANDARD
TZOFFSETFROM:-0400
TZOFFSETTO:-0500
TZNAME:EST
DTSTART:20251102T060000
END:STANDARD
BEGIN:DAYLIGHT
TZOFFSETFROM:-0500
TZOFFSETTO:-0400
TZNAME:EDT
DTSTART:20260308T070000
END:DAYLIGHT
BEGIN:STANDARD
TZOFFSETFROM:-0400
TZOFFSETTO:-0500
TZNAME:EST
DTSTART:20261101T060000
END:STANDARD
BEGIN:DAYLIGHT
TZOFFSETFROM:-0500
TZOFFSETTO:-0400
TZNAME:EDT
DTSTART:20270314T070000
END:DAYLIGHT
BEGIN:STANDARD
TZOFFSETFROM:-0400
TZOFFSETTO:-0500
TZNAME:EST
DTSTART:20271107T060000
END:STANDARD
END:VTIMEZONE
BEGIN:VEVENT
DTSTART;TZID=America/New_York:20260329T110000
DTEND;TZID=America/New_York:20260329T140000
DTSTAMP:20260423T053257
CREATED:20260316T223120Z
LAST-MODIFIED:20260316T223120Z
UID:10005082-1774782000-1774792800@stonewallcolumbus.org
SUMMARY:Trans Women Who Brunch
DESCRIPTION:Celebrate Transgender Day of Visibility with a FREE brunch & panel honoring\nthe stories of trans women of color. All are welcome! \nTickets are free but RSVP is required! Space is limited to 40 people.\nThere will be a 21+ cash bar \nGRAB YOUR FREE SPOT! Visit tinyurl.com/2026TWWB to register! \n Get Tickets!\nBarcelona Restaurant & Bar\n263 E Whittier St\nColumbus\, Ohio 43206
URL:https://stonewallcolumbus.org/event/trans-women-who-brunch/
LOCATION:OH
CATEGORIES:Community Calendar,Featured,Trans Social Group
ATTACH;FMTTYPE=application/pdf:https://stonewallcolumbus.org/wp-content/uploads/2026/03/4342075408_2026-Mozaic_Trans-Women-Who-Brunch_Flyer-1.pdf
END:VEVENT
BEGIN:VEVENT
DTSTART;TZID=America/New_York:20260329T160000
DTEND;TZID=America/New_York:20260329T190000
DTSTAMP:20260423T053257
CREATED:20260323T230822Z
LAST-MODIFIED:20260323T230908Z
UID:10005087-1774800000-1774810800@stonewallcolumbus.org
SUMMARY:Cbus Sapphic Park Day After Party
DESCRIPTION:We’re so excited to hang out with everyone at our Cbus Sapphic Park Day that of course we had to have an after party with Slammers Bar! Join us after our first park day in Columbus on March 29th for an after party at Slammers Bar from 4pm-7pm! Support your local lesbian bar\, be in community\, eat\, drink and be gay! \nHope to see everyone there! \n Get Tickets!\n  \n202 E Long St.\nColumbus\, Ohio 43215\nUnited States
URL:https://stonewallcolumbus.org/event/cbus-sapphic-park-day-after-party/
LOCATION:OH
CATEGORIES:Community Calendar,Featured
ATTACH;FMTTYPE=image/png:https://stonewallcolumbus.org/wp-content/uploads/2026/03/Cbus-Sapphic-Park-Day-After-Party-MAIN.png
END:VEVENT
BEGIN:VEVENT
DTSTART;TZID=America/New_York:20260329T170000
DTEND;TZID=America/New_York:20260329T180000
DTSTAMP:20260423T053257
CREATED:20260217T033607Z
LAST-MODIFIED:20260217T034229Z
UID:10005058-1774803600-1774807200@stonewallcolumbus.org
SUMMARY:Line Dancing with the Trailblazers
DESCRIPTION:MARCH 22nd & 29th\n5:00PM-6:00PM – Doors open at 4:45PM \nSTONEWALL COLUMBUS\n1160 N HIGH STREET \nPut on your boots and kick up your heels! \nLine dancing returns at Stonewall. Again\, Geri Rousculp and Sharon Kellum will be your instructors for this fun class. No experience necessary – you come to have a great time. The class runs from 5:00PM-6:00PM at Stonewall\, with the doors opening at 4:45PM
URL:https://stonewallcolumbus.org/event/line-dancing-with-the-trailblazers-4-2/
LOCATION:Stonewall Columbus\, 1160 North High Street\, Columbus\, OH\, 43201\, United States
CATEGORIES:Community Calendar,Featured,PRIDE365,Trailblazers
ATTACH;FMTTYPE=image/png:https://stonewallcolumbus.org/wp-content/uploads/2025/02/TB-LINE-Dnce.png
ORGANIZER;CN="Stonewall Columbus":MAILTO:info@stonewallcolumbus.org
GEO:39.986041;-83.005015
X-APPLE-STRUCTURED-LOCATION;VALUE=URI;X-ADDRESS=Stonewall Columbus 1160 North High Street Columbus OH 43201 United States;X-APPLE-RADIUS=500;X-TITLE=1160 North High Street:geo:-83.005015,39.986041
END:VEVENT
BEGIN:VEVENT
DTSTART;TZID=America/New_York:20260331T170000
DTEND;TZID=America/New_York:20260331T210000
DTSTAMP:20260423T053257
CREATED:20260106T220358Z
LAST-MODIFIED:20260106T220358Z
UID:10004927-1774976400-1774990800@stonewallcolumbus.org
SUMMARY:Stonewall After Dark with Central Outreach
DESCRIPTION:Stonewall After Dark is here!\nEvery Tuesday and Wednesday from 5 PM to 9 PM at @stonewallcolumbus. Tuesdays will also coincide with the amazing TRANS TALK TUESDAY Support Group (when scheduled). \nGet tested\, start PrEP\, and take charge of your health. We are here for you!
URL:https://stonewallcolumbus.org/event/stonewall-after-dark-with-central-outreach-5/2026-03-31/
LOCATION:Stonewall Columbus\, 1160 North High Street\, Columbus\, OH\, 43201\, United States
CATEGORIES:Community Calendar,Featured,Health
ATTACH;FMTTYPE=image/jpeg:https://stonewallcolumbus.org/wp-content/uploads/2025/08/Stonewall-AfterDark-NEWHOURS-TVDisplay-scaled.jpg
ORGANIZER;CN="Stonewall Columbus":MAILTO:info@stonewallcolumbus.org
GEO:39.986041;-83.005015
X-APPLE-STRUCTURED-LOCATION;VALUE=URI;X-ADDRESS=Stonewall Columbus 1160 North High Street Columbus OH 43201 United States;X-APPLE-RADIUS=500;X-TITLE=1160 North High Street:geo:-83.005015,39.986041
END:VEVENT
BEGIN:VEVENT
DTSTART;TZID=America/New_York:20260331T183000
DTEND;TZID=America/New_York:20260331T203000
DTSTAMP:20260423T053257
CREATED:20260301T215322Z
LAST-MODIFIED:20260301T215457Z
UID:10005066-1774981800-1774989000@stonewallcolumbus.org
SUMMARY:Queer Sip & Paint
DESCRIPTION:Join us March 31st for this Queer Sip & Paint!\nCome celebrate International Transgender Day of Visibility! \nWhat you can expect: \n+ Meet Transgender\, Non-Binary and Gender Expansive people in Columbus.\n+ Sip & Paint Art Supplies and Food provided.\n+ Cash Bar available with Beer and Wine.\n+ Mocktails available for non-drinkers and guests under 21. \n Register!\nQueer Sip & Paint is hosted in Partnership with Stonewall Columbus\, Central Outreach\, ViiV\, Aids Healthcare Foundation (AHF) and Gilead.
URL:https://stonewallcolumbus.org/event/queer-sip-paint/
LOCATION:1160 N High Columbus\, Ohio 43201\, 1160 N High St\, Columbus\, OH\, United States
CATEGORIES:Community Calendar,Featured,PRIDE365
ATTACH;FMTTYPE=application/pdf:https://stonewallcolumbus.org/wp-content/uploads/2026/03/Queer-Sip-Paint-March-31.pdf
ORGANIZER;CN="Stonewall Columbus":MAILTO:info@stonewallcolumbus.org
GEO:39.9860681;-83.0050744
X-APPLE-STRUCTURED-LOCATION;VALUE=URI;X-ADDRESS=1160 N High Columbus Ohio 43201 1160 N High St Columbus OH United States;X-APPLE-RADIUS=500;X-TITLE=1160 N High St:geo:-83.0050744,39.9860681
END:VEVENT
BEGIN:VEVENT
DTSTART;TZID=America/New_York:20260401T110000
DTEND;TZID=America/New_York:20260401T123000
DTSTAMP:20260423T053257
CREATED:20260217T030306Z
LAST-MODIFIED:20260217T030306Z
UID:10005042-1775041200-1775046600@stonewallcolumbus.org
SUMMARY:Trailblazers - Digital Education Series - Class 12
DESCRIPTION:April 1st\, 2026/Class 12 – Hands-On Practice ?for Everyday Tech Frustrations\nPractice solving common\, real-life technology problems in a supportive\, hands-on setting. Participants will work through everyday issues like rotated screens\, missing apps\, sound problems\, and confusing TVs — learning how to undo mistakes\, try safe fixes\, and figure things out in real time so they leave with practical problem-solving experience they can use at home. \n\n\nThis Digital Education Series is tailored for adults over 55 who want to learn more about technology.\n\n\n\n\nNo experience required—just bring your curiosity!\n\nAttend in person at Stonewall Columbus – 1160 N. High St. \n\nAttendees are NOT required to attend all courses. Choose the classes that fit your needs!\n\nThis Digital Education Series is made possible through a grant from Spectrum.
URL:https://stonewallcolumbus.org/event/trailblazers-digital-education-series-class-12/
LOCATION:1160 N High Columbus\, Ohio 43201\, 1160 N High St\, Columbus\, OH\, United States
CATEGORIES:Community Calendar,Featured,Trailblazers
ATTACH;FMTTYPE=image/jpeg:https://stonewallcolumbus.org/wp-content/uploads/2025/08/Digital-Literacy.jpg
ORGANIZER;CN="Stonewall Columbus":MAILTO:info@stonewallcolumbus.org
GEO:39.9860681;-83.0050744
X-APPLE-STRUCTURED-LOCATION;VALUE=URI;X-ADDRESS=1160 N High Columbus Ohio 43201 1160 N High St Columbus OH United States;X-APPLE-RADIUS=500;X-TITLE=1160 N High St:geo:-83.0050744,39.9860681
END:VEVENT
BEGIN:VEVENT
DTSTART;TZID=America/New_York:20260401T163000
DTEND;TZID=America/New_York:20260401T183000
DTSTAMP:20260423T053257
CREATED:20260323T231403Z
LAST-MODIFIED:20260323T231403Z
UID:10005088-1775061000-1775068200@stonewallcolumbus.org
SUMMARY:Stonewall Trailblazers Happy Hour!
DESCRIPTION:Join Stonewall Trailblazers for happy hour at Slammers! Be in community with friends old and new as we gather to connect\, catch up\, and celebrate the year ahead. \nThis casual\, social gathering is a great opportunity to meet fellow Trailblazers and enjoy time together in a welcoming space. \nAll Trailblazers welcome. No registration required—just stop by and say hello! \n  \nSlammers\n202 E Long St\, Columbus\nColumbus\, Ohio 43215\nUnited States \n\nStonewall Trailblazers is Stonewall Columbus’ 55+ program\, creating space for LGBTQ+ older adults and allies to connect\, engage\, and build community.
URL:https://stonewallcolumbus.org/event/stonewall-trailblazers-happy-hour-3/
LOCATION:Slammer’s Bar & Pizza Kitchen\, 202 E Long Street\, Columbus\, OH\, 43215\, United States
CATEGORIES:Community Calendar,Featured,Trailblazers
ATTACH;FMTTYPE=image/jpeg:https://stonewallcolumbus.org/wp-content/uploads/2016/09/HappyHour6.jpg
ORGANIZER;CN="Stonewall Columbus":MAILTO:info@stonewallcolumbus.org
END:VEVENT
BEGIN:VEVENT
DTSTART;TZID=America/New_York:20260401T170000
DTEND;TZID=America/New_York:20260401T210000
DTSTAMP:20260423T053257
CREATED:20260106T215921Z
LAST-MODIFIED:20260106T220141Z
UID:10004443-1775062800-1775077200@stonewallcolumbus.org
SUMMARY:Stonewall After Dark with Central Outreach
DESCRIPTION:Stonewall After Dark is here!\nEvery Tuesday and Wednesday from 5 PM to 9 PM at @stonewallcolumbus. Tuesdays will also coincide with the amazing TRANS TALK TUESDAY Support Group (when scheduled). \nGet tested\, start PrEP\, and take charge of your health. We are here for you!
URL:https://stonewallcolumbus.org/event/stonewall-after-dark-with-central-outreach-2-3/2026-04-01/
LOCATION:Stonewall Columbus\, 1160 North High Street\, Columbus\, OH\, 43201\, United States
CATEGORIES:Community Calendar,Featured,Health
ATTACH;FMTTYPE=image/jpeg:https://stonewallcolumbus.org/wp-content/uploads/2025/08/Stonewall-AfterDark-NEWHOURS-TVDisplay-scaled.jpg
ORGANIZER;CN="Stonewall Columbus":MAILTO:info@stonewallcolumbus.org
GEO:39.986041;-83.005015
X-APPLE-STRUCTURED-LOCATION;VALUE=URI;X-ADDRESS=Stonewall Columbus 1160 North High Street Columbus OH 43201 United States;X-APPLE-RADIUS=500;X-TITLE=1160 North High Street:geo:-83.005015,39.986041
END:VEVENT
BEGIN:VEVENT
DTSTART;VALUE=DATE:20260402
DTEND;VALUE=DATE:20260407
DTSTAMP:20260423T053257
CREATED:20260310T174547Z
LAST-MODIFIED:20260420T163824Z
UID:10005073-1775091600-1775437199@stonewallcolumbus.org
SUMMARY:CLAW 26
DESCRIPTION:CLAW 26 — Columbus Leather & Fetish Weekend\n? Hyatt Regency Columbus — Full Hotel Takeover\n? April 2-5th\, 2026 \nCLAW 26 comes to Columbus for a full-scale hotel takeover at the Hyatt Regency Columbus. For the entire weekend\, the hotel becomes a dedicated CLAW space—giving attendees the freedom to explore\, connect\, and play in a community-centered environment\, all under one roof. \nWhat to Expect \nMultiple themed play parties throughout the weekend\nEducational workshops and discussion panels\nSocials\, meetups\, and structured community spaces\nVendor area\, Art Show\, and Silent Auction\nOn-site Guest Services and Safety teams\nWhether this is your first kink event or you’re a CLAW regular\, CLAW 26 is designed to be welcoming\, inclusive\, and easy to navigate—with hotel rooms\, event spaces\, and play areas all in one location. \nWho Can Attend \n21+ event \nOpen to all genders\, identities\, and experience levels\nRespect\, consent\, and community standards are mandatory\nHotel & Venue \nThe Hyatt Regency Columbus is entirely reserved for CLAW attendees during the event. All official programming\, parties\, and play spaces take place within the hotel. \n Get Tickets!
URL:https://stonewallcolumbus.org/event/claw-26/
LOCATION:Hyatt Regeny\, 350 N High St\, Columbus\, 43215\, United States
CATEGORIES:Community Calendar,Featured,PRIDE365,Special Events
ATTACH;FMTTYPE=image/png:https://stonewallcolumbus.org/wp-content/uploads/2026/03/C26-Stonewall-.png
END:VEVENT
BEGIN:VEVENT
DTSTART;TZID=America/New_York:20260402T183000
DTEND;TZID=America/New_York:20260402T203000
DTSTAMP:20260423T053257
CREATED:20260319T020202Z
LAST-MODIFIED:20260319T020202Z
UID:10005085-1775154600-1775161800@stonewallcolumbus.org
SUMMARY:Art In Response: Panel & Art Creation
DESCRIPTION:An informational panel about upcoming anti-trans legislation\, in combination with a collaborative art project. \n Get Tickets!
URL:https://stonewallcolumbus.org/event/art-in-response-panel-art-creation/
LOCATION:1160 N High Columbus\, Ohio 43201\, 1160 N High St\, Columbus\, OH\, United States
CATEGORIES:Community Calendar,Featured
ATTACH;FMTTYPE=image/png:https://stonewallcolumbus.org/wp-content/uploads/2026/03/art-in-response-event-1.png
GEO:39.9860681;-83.0050744
X-APPLE-STRUCTURED-LOCATION;VALUE=URI;X-ADDRESS=1160 N High Columbus Ohio 43201 1160 N High St Columbus OH United States;X-APPLE-RADIUS=500;X-TITLE=1160 N High St:geo:-83.0050744,39.9860681
END:VEVENT
BEGIN:VEVENT
DTSTART;TZID=America/New_York:20260404T193000
DTEND;TZID=America/New_York:20260404T220000
DTSTAMP:20260423T053257
CREATED:20260316T045755Z
LAST-MODIFIED:20260316T045755Z
UID:10005074-1775331000-1775340000@stonewallcolumbus.org
SUMMARY:Plot Twist!: Columbus's Premiere Sober Burlesque Revue
DESCRIPTION:Join us on Saturday\, April 4th for Plot Twist! Columbus’s Premiere Sober Burlesque Revue\, featuring The Mo’ment\, Silky the Body\, Thrillda Swinton\, Velvet Dior\, and Wisteria Knell. \n  \n Get Tickets!
URL:https://stonewallcolumbus.org/event/plot-twist-columbuss-premiere-sober-burlesque-revue/
LOCATION:OH
CATEGORIES:Community Calendar,Featured
ATTACH;FMTTYPE=image/png:https://stonewallcolumbus.org/wp-content/uploads/2026/03/Plot-Twist-04.04.26-flyer-with-QR-code.png
END:VEVENT
END:VCALENDAR