BEGIN:VCALENDAR
VERSION:2.0
PRODID:-//Stonewall Columbus - ECPv6.15.20//NONSGML v1.0//EN
CALSCALE:GREGORIAN
METHOD:PUBLISH
X-ORIGINAL-URL:https://stonewallcolumbus.org
X-WR-CALDESC:Events for Stonewall Columbus
REFRESH-INTERVAL;VALUE=DURATION:PT1H
X-Robots-Tag:noindex
X-PUBLISHED-TTL:PT1H
BEGIN:VTIMEZONE
TZID:America/New_York
BEGIN:DAYLIGHT
TZOFFSETFROM:-0500
TZOFFSETTO:-0400
TZNAME:EDT
DTSTART:20240310T070000
END:DAYLIGHT
BEGIN:STANDARD
TZOFFSETFROM:-0400
TZOFFSETTO:-0500
TZNAME:EST
DTSTART:20241103T060000
END:STANDARD
BEGIN:DAYLIGHT
TZOFFSETFROM:-0500
TZOFFSETTO:-0400
TZNAME:EDT
DTSTART:20250309T070000
END:DAYLIGHT
BEGIN:STANDARD
TZOFFSETFROM:-0400
TZOFFSETTO:-0500
TZNAME:EST
DTSTART:20251102T060000
END:STANDARD
BEGIN:DAYLIGHT
TZOFFSETFROM:-0500
TZOFFSETTO:-0400
TZNAME:EDT
DTSTART:20260308T070000
END:DAYLIGHT
BEGIN:STANDARD
TZOFFSETFROM:-0400
TZOFFSETTO:-0500
TZNAME:EST
DTSTART:20261101T060000
END:STANDARD
END:VTIMEZONE
BEGIN:VEVENT
DTSTART;TZID=America/New_York:20251207T150000
DTEND;TZID=America/New_York:20251207T190000
DTSTAMP:20260422T230121
CREATED:20251124T155558Z
LAST-MODIFIED:20251124T161643Z
UID:10004827-1765119600-1765134000@stonewallcolumbus.org
SUMMARY:2nd Annual Plant Gays Holiday Bazaar
DESCRIPTION:The holiday magic is back! We are excited to invite you to our 2nd Annual Holiday Bazaar during Village Lights.\n\n\njoin us for a festive evening of:\nsipping on cozy refreshments\nfinding the perfect gifts with special discounts\ngetting lucky with our exciting raffle prizes\n\n\nand the best part? we’re donating 10% of all sales to the incredible @stonewallcolumbus!\n\n\nshop small and give back this season \n\n\nSAVE THE DATE & SHARE THE JOY!\ndecember 7th from 3-7pm – 220 thurman ave
URL:https://stonewallcolumbus.org/event/2nd-annual-plant-gays-holiday-bazaar/
LOCATION:The Plant Gays\, 220 Thurman Ave.\, Columbus\, 43205\, United States
CATEGORIES:Adventure Pride,Community Calendar,Family Pride Network,Featured,PRIDE,PRIDE365,Trailblazers,Trans Social Group,Veterans
ATTACH;FMTTYPE=image/png:https://stonewallcolumbus.org/wp-content/uploads/2025/11/Red-Pink-Festive-Illustrated-Holiday-Craft-Markets-Event-Christmas-Poster-1.png
END:VEVENT
BEGIN:VEVENT
DTSTART;TZID=America/New_York:20251208T190000
DTEND;TZID=America/New_York:20251208T210000
DTSTAMP:20260422T230121
CREATED:20250205T203347Z
LAST-MODIFIED:20250211T143110Z
UID:10005134-1765220400-1765227600@stonewallcolumbus.org
SUMMARY:Men's Book Club
DESCRIPTION:The Stonewall Columbus Men’s Book Club is focused on fostering meaningful discussions around themes such as gender\, sexuality\, relationships\, and LGBTQ+ experiences. This peer-led program strives to provide a supportive environment for men of all orientations\, encouraging open dialogue\, mutual respect\, and community-building through the shared love of books. Whether participants are seeking to broaden their perspectives or connect with others\, this program offers a safe and inclusive space for personal growth and connection. \n[As with all our programming at Stonewall Columbus\, our book clubs are open and welcoming to all individuals\, transgender\, nonbinary\, and cisgender who wish to attend.] \nStonewall Men’s Book Club 2025 Reading List\nFEBRUARY\nGiovanni’s Room\nJames Baldwin \nMARCH\nThe Great Believers\nRebecca Makkai \nAPRIL\nMaurice\nE.M. Forster \nMAY\nGays on Broadway\nEthan Mordden \nJUNE\nNo meeting (Happy Pride!) \nJULY\nA Single Man \nChristopher Isherwood \nAUGUST\nThe Line of Beauty\nAlan Hollinghurst \nSEPTEMBER\nBrokeback Mountain\nAnnie Proulx \nOCTOBER\nTBD Reader’s Choice \nNOVEMBER\nTBD Reader’s Choice \nDEBERMBER\nNo meeting \nQuestions? Email: mensbookclub@stonewallcolumbus.org
URL:https://stonewallcolumbus.org/event/mens-book-club/2025-12-08/
LOCATION:116 N High St\, Columbus\, OH 43215\, USA
CATEGORIES:Adventure Pride,Community Calendar,Family Pride Network,Featured,Health,PRIDE,PRIDE365,Special Events,Trailblazers,Trans Social Group,Veterans
ATTACH;FMTTYPE=image/png:https://stonewallcolumbus.org/wp-content/uploads/2025/02/Mens-Book-Club-Facebook-Event-cover.png
ORGANIZER;CN="Stonewall Columbus":MAILTO:info@stonewallcolumbus.org
END:VEVENT
BEGIN:VEVENT
DTSTART;TZID=America/New_York:20251209T170000
DTEND;TZID=America/New_York:20251209T210000
DTSTAMP:20260422T230121
CREATED:20250214T184444Z
LAST-MODIFIED:20250829T175521Z
UID:10004210-1765299600-1765314000@stonewallcolumbus.org
SUMMARY:Stonewall After Dark with Central Outreach
DESCRIPTION:Stonewall After Dark is here!\nEvery Tuesday and Wednesday from 5 PM to 9 PM at @stonewallcolumbus. ? Yes\, this will also coincide with the amazing Trans Taco Tuesday support group when scheduled. \nGet tested\, start PrEP\, and take charge of your health. ? We are here for you! #centraloutreach
URL:https://stonewallcolumbus.org/event/stonewall-after-dark-with-central-outreach/2025-12-09/
LOCATION:Stonewall Columbus\, 1160 North High Street\, Columbus\, OH\, 43201\, United States
CATEGORIES:Adventure Pride,Community Calendar,Family Pride Network,Featured,Health,PRIDE,PRIDE365,Trailblazers,Trans Social Group,Veterans
ATTACH;FMTTYPE=image/jpeg:https://stonewallcolumbus.org/wp-content/uploads/2025/02/Stonewall-AfterDark-Social-Feed.jpg
ORGANIZER;CN="Stonewall Columbus":MAILTO:info@stonewallcolumbus.org
GEO:39.986041;-83.005015
X-APPLE-STRUCTURED-LOCATION;VALUE=URI;X-ADDRESS=Stonewall Columbus 1160 North High Street Columbus OH 43201 United States;X-APPLE-RADIUS=500;X-TITLE=1160 North High Street:geo:-83.005015,39.986041
END:VEVENT
BEGIN:VEVENT
DTSTART;TZID=America/New_York:20251209T190000
DTEND;TZID=America/New_York:20251209T203000
DTSTAMP:20260422T230121
CREATED:20250324T162420Z
LAST-MODIFIED:20250324T162615Z
UID:10004253-1765306800-1765312200@stonewallcolumbus.org
SUMMARY:Open LGBTQ+ Education Session
DESCRIPTION:UNDER 18 WITH PARENT OR LEGAL GUARDIAN\n\n\n\n\n\nPart of the 2025 Open LGBTQ+ Education Sessions collection\n\n\n\n\nLooking to brush up on LGBTQ+ terminology? Confused about neo-pronouns? We’ve got you! \n\nWho\n\nThis session is for anyone (LGBTQ+ or ally) who is looking to brush up on LGBTQ+ terminology\, pronoun usage\, and tips for what to do when mistakes are made (i.e.: misgendering\, deadnaming\, etc.).\nWe all have to start somewhere and everyone could use a refresher – all levels of understanding are welcome to attend.\n\nWhat to expect\n\nInformative session\, with activities and group discussion\nSpace to ask potentially uncomfortable questions\, free of judgement (great for parents of LGBTQ+ kids & partners of newly “out” LGBTQ+ folks)\nYou’ll leave with a printed copy of the presentation and additional materials to assist with future questions
URL:https://stonewallcolumbus.org/event/open-lgbtq-education-session-4/
LOCATION:Stonewall Columbus\, 1160 North High Street\, Columbus\, OH\, 43201\, United States
CATEGORIES:Adventure Pride,Community Calendar,Family Pride Network,Featured,PRIDE,PRIDE365,Trailblazers,Trans Social Group,Veterans
ATTACH;FMTTYPE=image/png:https://stonewallcolumbus.org/wp-content/uploads/2025/03/LGBTQ-Education-Sessions-2025-Eventbrite.png
ORGANIZER;CN="Stonewall Columbus":MAILTO:info@stonewallcolumbus.org
GEO:39.986041;-83.005015
X-APPLE-STRUCTURED-LOCATION;VALUE=URI;X-ADDRESS=Stonewall Columbus 1160 North High Street Columbus OH 43201 United States;X-APPLE-RADIUS=500;X-TITLE=1160 North High Street:geo:-83.005015,39.986041
END:VEVENT
BEGIN:VEVENT
DTSTART;TZID=America/New_York:20251210T170000
DTEND;TZID=America/New_York:20251210T210000
DTSTAMP:20260422T230121
CREATED:20250829T180025Z
LAST-MODIFIED:20251226T070130Z
UID:10004427-1765386000-1765400400@stonewallcolumbus.org
SUMMARY:Stonewall After Dark with Central Outreach
DESCRIPTION:Stonewall After Dark is here!\nEvery Tuesday and Wednesday from 5 PM to 9 PM at @stonewallcolumbus. Tuesdays will also coincide with the amazing TRANS TALK TUESDAY Support Group (when scheduled). \nGet tested\, start PrEP\, and take charge of your health. We are here for you!
URL:https://stonewallcolumbus.org/event/stonewall-after-dark-with-central-outreach-2/2025-12-10/
LOCATION:Stonewall Columbus\, 1160 North High Street\, Columbus\, OH\, 43201\, United States
CATEGORIES:Adventure Pride,Community Calendar,Family Pride Network,Featured,PRIDE,PRIDE365,Trailblazers,Trans Social Group,Veterans
ATTACH;FMTTYPE=image/jpeg:https://stonewallcolumbus.org/wp-content/uploads/2025/02/Stonewall-AfterDark-Social-Feed.jpg
ORGANIZER;CN="Stonewall Columbus":MAILTO:info@stonewallcolumbus.org
GEO:39.986041;-83.005015
X-APPLE-STRUCTURED-LOCATION;VALUE=URI;X-ADDRESS=Stonewall Columbus 1160 North High Street Columbus OH 43201 United States;X-APPLE-RADIUS=500;X-TITLE=1160 North High Street:geo:-83.005015,39.986041
END:VEVENT
BEGIN:VEVENT
DTSTART;TZID=America/New_York:20251211T140000
DTEND;TZID=America/New_York:20251211T190000
DTSTAMP:20260422T230121
CREATED:20250911T144612Z
LAST-MODIFIED:20250911T144615Z
UID:10004491-1765461600-1765479600@stonewallcolumbus.org
SUMMARY:Queer + Trans Clothing Swap
DESCRIPTION:This event is open to all and focused to Trans\, Queer and Plus Size Folk!\nNew or gently used clothes are welcome regardless of gender label.\nWe welcome clothing sizes 14\, 2X\, 38 inches and up! We welcome shoes sizes 8 and up! \nPlease bring seasonal items like winter coats\, jackets\, sweaters\, hoodies\, scarfs and gloves.We also accept brand new hygiene care items\, tents and unused blankets for the unhoused community. \nThursday\, Dec 11th from 2pm-7pm\nHosted at Stonewall Columbus – 1160 N. High St\, Columbus OH 43201 \nBring items before the event for sorting.\nDrop off times weekdays at The Center from 10:00am-5:00pm.\nYou can leave items at the Center weekdays starting Sept 1st!
URL:https://stonewallcolumbus.org/event/queer-trans-clothing-swap/
LOCATION:Stonewall Columbus\, 1160 North High Street\, Columbus\, OH\, 43201\, United States
CATEGORIES:Adventure Pride,Community Calendar,Family Pride Network,Featured,PRIDE,PRIDE365,Trailblazers,Trans Social Group,Veterans
ATTACH;FMTTYPE=image/jpeg:https://stonewallcolumbus.org/wp-content/uploads/2025/09/Clothing-Swap-Party-Modern-Illustrated-Flyer_Jaki-Braxton.jpg
ORGANIZER;CN="Stonewall Columbus":MAILTO:info@stonewallcolumbus.org
GEO:39.986041;-83.005015
X-APPLE-STRUCTURED-LOCATION;VALUE=URI;X-ADDRESS=Stonewall Columbus 1160 North High Street Columbus OH 43201 United States;X-APPLE-RADIUS=500;X-TITLE=1160 North High Street:geo:-83.005015,39.986041
END:VEVENT
BEGIN:VEVENT
DTSTART;TZID=America/New_York:20251213T100000
DTEND;TZID=America/New_York:20251213T120000
DTSTAMP:20260422T230121
CREATED:20250926T153719Z
LAST-MODIFIED:20260122T195911Z
UID:10004511-1765620000-1765627200@stonewallcolumbus.org
SUMMARY:Adventure Pride
DESCRIPTION:Hit the trails with us on YOUR next adventure!\n\nPlease complete the form below to share more about yourself and which activities you’re interested in joining.  The information you provide will only be shared with the program facilitator and staff at Stonewall – your contact information will only be used for the express purpose of this program\, unless you opt in to receiving our monthly newsletter. \nHere is some info about this year’s activities that may help you decide which are best for you: \n\nAll activities meet at 10am on Saturdays\nThe specific meet-up locations will be emailed to you on the Friday before each outing\nWe will share details about each location\, to the best of our knowledge\, including ADA accessibility\, difficulty level\, and if pets are welcome (service animals are always welcome)\nThe facilitator will have a liability waiver for you to sign before the start of each outing\n\n\nOur facilitator is Gabe McDonald (he/him) – learn a bit more about Gabe below:\nHello fellow queer adventurers! My name is Gabe and I’m beyond thrilled to join Stonewall Columbus as the Adventure Pride Facilitator. I am a Columbus native and lived in Boston for 10 years before returning to my home state to live my exuberant queer life here in the Midwest. I currently live in the Short North with my amazing daughter and my delightfully silly dog. \nI’m an engineer by day but love to get outside and experience the wholeness of the wild\, natural world. I love rock climbing\, mud races\, kayaking\, gardening\, painting\, and improv. My most recent adventure was a 130-mile solo kayaking trip that left from Columbus and followed the Scioto River until it merged into Ohio River. It was as fun as it was challenging\, and the time in nature empowered me to connect to my inner strength and beauty. \nI hope to use my role at Stonewall to do some of my favorite things: connecting with people\, honoring my body through movement\, and being out in nature. I’m so excited to meet you all as we go on outdoor adventures and explore some of the amazing space central Ohio has to offer. \n 
URL:https://stonewallcolumbus.org/event/adventure-pride-2/2025-12-13/
CATEGORIES:Adventure Pride,Community Calendar,Family Pride Network,Featured,PRIDE,PRIDE365,Trailblazers,Trans Social Group,Veterans
ATTACH;FMTTYPE=image/jpeg:https://stonewallcolumbus.org/wp-content/uploads/2025/09/AdventurePride-Cropped.jpg
ORGANIZER;CN="Stonewall Columbus":MAILTO:info@stonewallcolumbus.org
END:VEVENT
END:VCALENDAR