BEGIN:VCALENDAR
VERSION:2.0
PRODID:-//Stonewall Columbus - ECPv6.15.20//NONSGML v1.0//EN
CALSCALE:GREGORIAN
METHOD:PUBLISH
X-ORIGINAL-URL:https://stonewallcolumbus.org
X-WR-CALDESC:Events for Stonewall Columbus
REFRESH-INTERVAL;VALUE=DURATION:PT1H
X-Robots-Tag:noindex
X-PUBLISHED-TTL:PT1H
BEGIN:VTIMEZONE
TZID:America/New_York
BEGIN:DAYLIGHT
TZOFFSETFROM:-0500
TZOFFSETTO:-0400
TZNAME:EDT
DTSTART:20250309T070000
END:DAYLIGHT
BEGIN:STANDARD
TZOFFSETFROM:-0400
TZOFFSETTO:-0500
TZNAME:EST
DTSTART:20251102T060000
END:STANDARD
BEGIN:DAYLIGHT
TZOFFSETFROM:-0500
TZOFFSETTO:-0400
TZNAME:EDT
DTSTART:20260308T070000
END:DAYLIGHT
BEGIN:STANDARD
TZOFFSETFROM:-0400
TZOFFSETTO:-0500
TZNAME:EST
DTSTART:20261101T060000
END:STANDARD
BEGIN:DAYLIGHT
TZOFFSETFROM:-0500
TZOFFSETTO:-0400
TZNAME:EDT
DTSTART:20270314T070000
END:DAYLIGHT
BEGIN:STANDARD
TZOFFSETFROM:-0400
TZOFFSETTO:-0500
TZNAME:EST
DTSTART:20271107T060000
END:STANDARD
END:VTIMEZONE
BEGIN:VEVENT
DTSTART;TZID=America/New_York:20260203T080000
DTEND;TZID=America/New_York:20260203T093000
DTSTAMP:20260419T101859
CREATED:20260107T034015Z
LAST-MODIFIED:20260126T154536Z
UID:10004974-1770105600-1770111000@stonewallcolumbus.org
SUMMARY:New Year\, New Connections: DCCO Networking
DESCRIPTION:Start your day with connection and conversation at our DCCO Networking Event. This casual morning gathering is an opportunity for members and non-members to come together over a cup of coffee or tea\, meet new faces\, and strengthen relationships within our business community. \nWe’ll also share a brief overview of upcoming 2026 planning initiatives\, highlight future events\, and discuss early insights from the feedback survey that many of you—members and non-members alike—have recently completed. Your input is helping shape what’s next\, and we’re excited to continue the conversation together. \nWhether you’re looking to expand your network\, learn what’s ahead\, or simply enjoy a relaxed start to your morning\, we hope you’ll join us. \n Register to let us know you’re coming!
URL:https://stonewallcolumbus.org/event/new-year-new-connections-dcco-networking/
LOCATION:1160 N High St Columbus OH 43201
CATEGORIES:Business Networking,Community Calendar,Diversity Chamber of Central Ohio,Featured
ATTACH;FMTTYPE=image/png:https://stonewallcolumbus.org/wp-content/uploads/2026/01/a-cup-of-Tea-or-coffee-2160-x-1080-px.png
ORGANIZER;CN="Stonewall Columbus":MAILTO:info@stonewallcolumbus.org
END:VEVENT
END:VCALENDAR