BEGIN:VCALENDAR
VERSION:2.0
PRODID:-//Stonewall Columbus - ECPv6.15.20//NONSGML v1.0//EN
CALSCALE:GREGORIAN
METHOD:PUBLISH
X-WR-CALNAME:Stonewall Columbus
X-ORIGINAL-URL:https://stonewallcolumbus.org
X-WR-CALDESC:Events for Stonewall Columbus
REFRESH-INTERVAL;VALUE=DURATION:PT1H
X-Robots-Tag:noindex
X-PUBLISHED-TTL:PT1H
BEGIN:VTIMEZONE
TZID:America/New_York
BEGIN:DAYLIGHT
TZOFFSETFROM:-0500
TZOFFSETTO:-0400
TZNAME:EDT
DTSTART:20250309T070000
END:DAYLIGHT
BEGIN:STANDARD
TZOFFSETFROM:-0400
TZOFFSETTO:-0500
TZNAME:EST
DTSTART:20251102T060000
END:STANDARD
BEGIN:DAYLIGHT
TZOFFSETFROM:-0500
TZOFFSETTO:-0400
TZNAME:EDT
DTSTART:20260308T070000
END:DAYLIGHT
BEGIN:STANDARD
TZOFFSETFROM:-0400
TZOFFSETTO:-0500
TZNAME:EST
DTSTART:20261101T060000
END:STANDARD
BEGIN:DAYLIGHT
TZOFFSETFROM:-0500
TZOFFSETTO:-0400
TZNAME:EDT
DTSTART:20270314T070000
END:DAYLIGHT
BEGIN:STANDARD
TZOFFSETFROM:-0400
TZOFFSETTO:-0500
TZNAME:EST
DTSTART:20271107T060000
END:STANDARD
END:VTIMEZONE
BEGIN:VEVENT
DTSTART;TZID=America/New_York:20260127T170000
DTEND;TZID=America/New_York:20260127T210000
DTSTAMP:20260423T013339
CREATED:20260106T220358Z
LAST-MODIFIED:20260106T220358Z
UID:10004918-1769533200-1769547600@stonewallcolumbus.org
SUMMARY:Stonewall After Dark with Central Outreach
DESCRIPTION:Stonewall After Dark is here!\nEvery Tuesday and Wednesday from 5 PM to 9 PM at @stonewallcolumbus. Tuesdays will also coincide with the amazing TRANS TALK TUESDAY Support Group (when scheduled). \nGet tested\, start PrEP\, and take charge of your health. We are here for you!
URL:https://stonewallcolumbus.org/event/stonewall-after-dark-with-central-outreach-5/2026-01-27/
LOCATION:Stonewall Columbus\, 1160 North High Street\, Columbus\, OH\, 43201\, United States
CATEGORIES:Community Calendar,Featured,Health
ATTACH;FMTTYPE=image/jpeg:https://stonewallcolumbus.org/wp-content/uploads/2025/08/Stonewall-AfterDark-NEWHOURS-TVDisplay-scaled.jpg
ORGANIZER;CN="Stonewall Columbus":MAILTO:info@stonewallcolumbus.org
GEO:39.986041;-83.005015
X-APPLE-STRUCTURED-LOCATION;VALUE=URI;X-ADDRESS=Stonewall Columbus 1160 North High Street Columbus OH 43201 United States;X-APPLE-RADIUS=500;X-TITLE=1160 North High Street:geo:-83.005015,39.986041
END:VEVENT
BEGIN:VEVENT
DTSTART;TZID=America/New_York:20260128T170000
DTEND;TZID=America/New_York:20260128T210000
DTSTAMP:20260423T013339
CREATED:20260106T215921Z
LAST-MODIFIED:20260106T220141Z
UID:10004434-1769619600-1769634000@stonewallcolumbus.org
SUMMARY:Stonewall After Dark with Central Outreach
DESCRIPTION:Stonewall After Dark is here!\nEvery Tuesday and Wednesday from 5 PM to 9 PM at @stonewallcolumbus. Tuesdays will also coincide with the amazing TRANS TALK TUESDAY Support Group (when scheduled). \nGet tested\, start PrEP\, and take charge of your health. We are here for you!
URL:https://stonewallcolumbus.org/event/stonewall-after-dark-with-central-outreach-2-3/2026-01-28/
LOCATION:Stonewall Columbus\, 1160 North High Street\, Columbus\, OH\, 43201\, United States
CATEGORIES:Community Calendar,Featured,Health
ATTACH;FMTTYPE=image/jpeg:https://stonewallcolumbus.org/wp-content/uploads/2025/08/Stonewall-AfterDark-NEWHOURS-TVDisplay-scaled.jpg
ORGANIZER;CN="Stonewall Columbus":MAILTO:info@stonewallcolumbus.org
GEO:39.986041;-83.005015
X-APPLE-STRUCTURED-LOCATION;VALUE=URI;X-ADDRESS=Stonewall Columbus 1160 North High Street Columbus OH 43201 United States;X-APPLE-RADIUS=500;X-TITLE=1160 North High Street:geo:-83.005015,39.986041
END:VEVENT
BEGIN:VEVENT
DTSTART;TZID=America/New_York:20260131T190000
DTEND;TZID=America/New_York:20260131T220000
DTSTAMP:20260423T013339
CREATED:20260107T201311Z
LAST-MODIFIED:20260107T201846Z
UID:10004975-1769886000-1769896800@stonewallcolumbus.org
SUMMARY:Columbus Fury Pride Night 2026
DESCRIPTION:Stonewall Columbus Special Offer! \nThe Columbus Fury are excited to celebrate Pride Night on Saturday\, January 31st\, 2026 at 7:00 PM when the Fury host the Orlando Valkyries. Tickets are available in three (3) different price levels at a $15.00 discount. Attendees can purchase a limited edition Columbus Fury x Pride T-Shirt at the Fury merchandise stand\, meet Pride organizations\, and more! \nIf you purchase NOW\, you can buy a shirt in advance at a discounted rate! Note that if t-shirts sell out online\, they will be available for purchase at Nationwide Arena on the night of the match on a first come\, first serve basis. \nThe deadline to guarantee your t-shirt size is Thursday\, January 8th at 5:00 PM. \n Get Your Tickets!
URL:https://stonewallcolumbus.org/event/columbus-fury-pride-night-2026/
LOCATION:Nationwide Arena\, 200 W Nationwide Blvd\, Columbus\, OH\, 43215\, United States
CATEGORIES:Community Calendar,Featured,PRIDE365
ATTACH;FMTTYPE=image/png:https://stonewallcolumbus.org/wp-content/uploads/2026/01/deb745eb-45c1-4e8f-94af-423fa6aaf99a-scaled.png
GEO:39.9693512;-83.0063849
X-APPLE-STRUCTURED-LOCATION;VALUE=URI;X-ADDRESS=Nationwide Arena 200 W Nationwide Blvd Columbus OH 43215 United States;X-APPLE-RADIUS=500;X-TITLE=200 W Nationwide Blvd:geo:-83.0063849,39.9693512
END:VEVENT
END:VCALENDAR