BEGIN:VCALENDAR
VERSION:2.0
PRODID:-//Stonewall Columbus - ECPv6.15.20//NONSGML v1.0//EN
CALSCALE:GREGORIAN
METHOD:PUBLISH
X-WR-CALNAME:Stonewall Columbus
X-ORIGINAL-URL:https://stonewallcolumbus.org
X-WR-CALDESC:Events for Stonewall Columbus
REFRESH-INTERVAL;VALUE=DURATION:PT1H
X-Robots-Tag:noindex
X-PUBLISHED-TTL:PT1H
BEGIN:VTIMEZONE
TZID:America/New_York
BEGIN:DAYLIGHT
TZOFFSETFROM:-0500
TZOFFSETTO:-0400
TZNAME:EDT
DTSTART:20250309T070000
END:DAYLIGHT
BEGIN:STANDARD
TZOFFSETFROM:-0400
TZOFFSETTO:-0500
TZNAME:EST
DTSTART:20251102T060000
END:STANDARD
BEGIN:DAYLIGHT
TZOFFSETFROM:-0500
TZOFFSETTO:-0400
TZNAME:EDT
DTSTART:20260308T070000
END:DAYLIGHT
BEGIN:STANDARD
TZOFFSETFROM:-0400
TZOFFSETTO:-0500
TZNAME:EST
DTSTART:20261101T060000
END:STANDARD
BEGIN:DAYLIGHT
TZOFFSETFROM:-0500
TZOFFSETTO:-0400
TZNAME:EDT
DTSTART:20270314T070000
END:DAYLIGHT
BEGIN:STANDARD
TZOFFSETFROM:-0400
TZOFFSETTO:-0500
TZNAME:EST
DTSTART:20271107T060000
END:STANDARD
END:VTIMEZONE
BEGIN:VEVENT
DTSTART;TZID=America/New_York:20260422T170000
DTEND;TZID=America/New_York:20260422T210000
DTSTAMP:20260422T085453
CREATED:20260106T215921Z
LAST-MODIFIED:20260106T220141Z
UID:10004446-1776877200-1776891600@stonewallcolumbus.org
SUMMARY:Stonewall After Dark with Central Outreach
DESCRIPTION:Stonewall After Dark is here!\nEvery Tuesday and Wednesday from 5 PM to 9 PM at @stonewallcolumbus. Tuesdays will also coincide with the amazing TRANS TALK TUESDAY Support Group (when scheduled). \nGet tested\, start PrEP\, and take charge of your health. We are here for you!
URL:https://stonewallcolumbus.org/event/stonewall-after-dark-with-central-outreach-2-3/2026-04-22/
LOCATION:Stonewall Columbus\, 1160 North High Street\, Columbus\, OH\, 43201\, United States
CATEGORIES:Community Calendar,Featured,Health
ATTACH;FMTTYPE=image/jpeg:https://stonewallcolumbus.org/wp-content/uploads/2025/08/Stonewall-AfterDark-NEWHOURS-TVDisplay-scaled.jpg
ORGANIZER;CN="Stonewall Columbus":MAILTO:info@stonewallcolumbus.org
GEO:39.986041;-83.005015
X-APPLE-STRUCTURED-LOCATION;VALUE=URI;X-ADDRESS=Stonewall Columbus 1160 North High Street Columbus OH 43201 United States;X-APPLE-RADIUS=500;X-TITLE=1160 North High Street:geo:-83.005015,39.986041
END:VEVENT
BEGIN:VEVENT
DTSTART;TZID=America/New_York:20260422T173000
DTEND;TZID=America/New_York:20260422T193000
DTSTAMP:20260422T085453
CREATED:20260316T050609Z
LAST-MODIFIED:20260407T194852Z
UID:10005076-1776879000-1776886200@stonewallcolumbus.org
SUMMARY:DCCO Business Series: Access to Capital by Key Bank
DESCRIPTION:Access to capital remains one of the most critical—and often challenging—components of starting and scaling a successful business. Join the Diversity Chamber of Central Ohio (DCCO) for an impactful session focused on helping entrepreneurs and small business owners better understand how to secure the funding they need to grow. This session\, facilitated by Erin Messa – Business Banking Relationship Manager from KeyBank\, will provide practical insights into the lending landscape\, including how to prepare for financing\, what lenders are looking for\, and how to position your business for long-term financial success. \n  \n Get Tickets!\n175 South 3rd St\n1st Floor Conference Room\nColumbus\, Ohio 43215\nUnited States
URL:https://stonewallcolumbus.org/event/dcco-business-series-access-to-capital-by-key-bank/
CATEGORIES:Business Networking,Diversity Chamber of Central Ohio,Featured
ATTACH;FMTTYPE=image/png:https://stonewallcolumbus.org/wp-content/uploads/2026/03/DCCO-Business-Education-Series.png
END:VEVENT
END:VCALENDAR